BEGIN:VCALENDAR
VERSION:2.0
PRODID:-//Memphis-Midsouth - ECPv6.15.17.1//NONSGML v1.0//EN
CALSCALE:GREGORIAN
METHOD:PUBLISH
X-WR-CALNAME:Memphis-Midsouth
X-ORIGINAL-URL:https://home.memphisdsa.org
X-WR-CALDESC:Events for Memphis-Midsouth
REFRESH-INTERVAL;VALUE=DURATION:PT1H
X-Robots-Tag:noindex
X-PUBLISHED-TTL:PT1H
BEGIN:VTIMEZONE
TZID:America/Chicago
BEGIN:DAYLIGHT
TZOFFSETFROM:-0600
TZOFFSETTO:-0500
TZNAME:CDT
DTSTART:20240310T080000
END:DAYLIGHT
BEGIN:STANDARD
TZOFFSETFROM:-0500
TZOFFSETTO:-0600
TZNAME:CST
DTSTART:20241103T070000
END:STANDARD
BEGIN:DAYLIGHT
TZOFFSETFROM:-0600
TZOFFSETTO:-0500
TZNAME:CDT
DTSTART:20250309T080000
END:DAYLIGHT
BEGIN:STANDARD
TZOFFSETFROM:-0500
TZOFFSETTO:-0600
TZNAME:CST
DTSTART:20251102T070000
END:STANDARD
BEGIN:DAYLIGHT
TZOFFSETFROM:-0600
TZOFFSETTO:-0500
TZNAME:CDT
DTSTART:20260308T080000
END:DAYLIGHT
BEGIN:STANDARD
TZOFFSETFROM:-0500
TZOFFSETTO:-0600
TZNAME:CST
DTSTART:20261101T070000
END:STANDARD
END:VTIMEZONE
BEGIN:VEVENT
DTSTART;TZID=America/Chicago:20250203T180000
DTEND;TZID=America/Chicago:20250203T200000
DTSTAMP:20260424T010129
CREATED:20250109T141928Z
LAST-MODIFIED:20250122T155830Z
UID:318-1738605600-1738612800@home.memphisdsa.org
SUMMARY:Workplace Organizing Committee
DESCRIPTION:The broad purpose of this committee is to support unionization\, labor solidarity\, and worker cooperative formation in west Tennessee. Join this meeting to support unorganized and newly organized workers\, learn workplace organizing skills\, and get support in organizing your workplace. \nThis committee aims to organize to increase worker control over their workplace\, politics\, and lives. We work alongside the broader DSA chapter to organize for power. \nMembers and interested/supportive guests are more than welcome to attend.
URL:https://home.memphisdsa.org/event/workplace-organizing-committee-4/
LOCATION:Contact memphisdsa@gmail.com if you want to attend and need this event’s address/location information.\, Memphis\, TN\, 38111\, United States
END:VEVENT
BEGIN:VEVENT
DTSTART;TZID=America/Chicago:20250211T180000
DTEND;TZID=America/Chicago:20250211T200000
DTSTAMP:20260424T010129
CREATED:20240330T172558Z
LAST-MODIFIED:20250122T161409Z
UID:142-1739296800-1739304000@home.memphisdsa.org
SUMMARY:Memphis-Midsouth DSA General Meeting
DESCRIPTION:General Meetings for the Memphis Midsouth DSA Chapter occur bi-monthly. They are held on the second Tuesday of every other month during 2025. \nThese meetings in particular are for voting on motions and resolutions\, electing new officers\, reports from committees\, and other decisive chapter business. \nMembers and non-members are both welcome to attend\, but only members can vote.
URL:https://home.memphisdsa.org/event/memphis-midsouth-dsa-general-meeting-3/
LOCATION:Contact memphisdsa@gmail.com if you want to attend and need this event’s address/location information.\, Memphis\, TN\, 38111\, United States
CATEGORIES:General Meeting
ATTACH;FMTTYPE=image/png:https://home.memphisdsa.org/wp-content/uploads/2021/07/cropped-DSALogo2-3-v3.png
END:VEVENT
BEGIN:VEVENT
DTSTART;TZID=America/Chicago:20250212T180000
DTEND;TZID=America/Chicago:20250212T200000
DTSTAMP:20260424T010129
CREATED:20250206T032030Z
LAST-MODIFIED:20250206T032158Z
UID:360-1739383200-1739390400@home.memphisdsa.org
SUMMARY:Mutual Aid Committee Meeting
DESCRIPTION:Join the work of our Mutual Aid Committee as a part of Memphis Midsouth DSA. \nThis committee helps meet immediate needs through networks of reciprocity to eventually build the foundation of a solidarity economy. At this stage we support others’ mutual aid efforts\, study mutual aid approaches\, and build our own original mutual aid projects.
URL:https://home.memphisdsa.org/event/mutual-aid-committee-meeting/
LOCATION:Contact memphisdsa@gmail.com if you want to attend and need this event’s address/location information.\, Memphis\, TN\, 38111\, United States
CATEGORIES:Mutual Aid
ATTACH;FMTTYPE=image/png:https://home.memphisdsa.org/wp-content/uploads/2021/07/CircularLogo-Transparent-e1748382636843.png
END:VEVENT
BEGIN:VEVENT
DTSTART;TZID=America/Chicago:20250217T180000
DTEND;TZID=America/Chicago:20250217T200000
DTSTAMP:20260424T010129
CREATED:20250206T031306Z
LAST-MODIFIED:20250206T031353Z
UID:357-1739815200-1739822400@home.memphisdsa.org
SUMMARY:Workplace Organizing Committee
DESCRIPTION:The broad purpose of this committee is to support unionization\, labor solidarity\, and worker cooperative formation in west Tennessee. Join this meeting to support unorganized and newly organized workers\, learn workplace organizing skills\, and get support in organizing your workplace. \nThis committee aims to organize to increase worker control over their workplace\, politics\, and lives. We work alongside the broader DSA chapter to organize for power. \nMembers and interested/supportive guests are more than welcome to attend.
URL:https://home.memphisdsa.org/event/workplace-organizing-committee-5/
LOCATION:Contact memphisdsa@gmail.com if you want to attend and need this event’s address/location information.\, Memphis\, TN\, 38111\, United States
CATEGORIES:Workplace Organizing
ATTACH;FMTTYPE=image/png:https://home.memphisdsa.org/wp-content/uploads/2021/07/CircularLogo-Transparent-e1748382636843.png
END:VEVENT
END:VCALENDAR