BEGIN:VCALENDAR
VERSION:2.0
PRODID:-//Memphis-Midsouth - ECPv6.15.17.1//NONSGML v1.0//EN
CALSCALE:GREGORIAN
METHOD:PUBLISH
X-ORIGINAL-URL:https://home.memphisdsa.org
X-WR-CALDESC:Events for Memphis-Midsouth
REFRESH-INTERVAL;VALUE=DURATION:PT1H
X-Robots-Tag:noindex
X-PUBLISHED-TTL:PT1H
BEGIN:VTIMEZONE
TZID:America/Chicago
BEGIN:DAYLIGHT
TZOFFSETFROM:-0600
TZOFFSETTO:-0500
TZNAME:CDT
DTSTART:20240310T080000
END:DAYLIGHT
BEGIN:STANDARD
TZOFFSETFROM:-0500
TZOFFSETTO:-0600
TZNAME:CST
DTSTART:20241103T070000
END:STANDARD
BEGIN:DAYLIGHT
TZOFFSETFROM:-0600
TZOFFSETTO:-0500
TZNAME:CDT
DTSTART:20250309T080000
END:DAYLIGHT
BEGIN:STANDARD
TZOFFSETFROM:-0500
TZOFFSETTO:-0600
TZNAME:CST
DTSTART:20251102T070000
END:STANDARD
BEGIN:DAYLIGHT
TZOFFSETFROM:-0600
TZOFFSETTO:-0500
TZNAME:CDT
DTSTART:20260308T080000
END:DAYLIGHT
BEGIN:STANDARD
TZOFFSETFROM:-0500
TZOFFSETTO:-0600
TZNAME:CST
DTSTART:20261101T070000
END:STANDARD
END:VTIMEZONE
BEGIN:VEVENT
DTSTART;TZID=America/Chicago:20250106T180000
DTEND;TZID=America/Chicago:20250106T200000
DTSTAMP:20260423T232520
CREATED:20241230T190516Z
LAST-MODIFIED:20241230T190516Z
UID:313-1736186400-1736193600@home.memphisdsa.org
SUMMARY:Workplace Organizing Committee
DESCRIPTION:The purpose of this committee broadly is to support efforts at unionization\, labor solidarity\, and worker cooperative formation in west Tennessee. Attend to support unorganized and newly organized workers\, learn skills to organize workplaces\, or get support in organizing yours. \nThis committee aims to organize to increase workers control over their workplace\, politics\, and lives. It works\, along with the larger chapter of DSA\, to organize for power. \nMembers and interested/supportive guests are more than welcome to attend.
URL:https://home.memphisdsa.org/event/workplace-organizing-committee-2/
LOCATION:Contact memphisdsa@gmail.com if you want to attend and need this event’s address/location information.\, Memphis\, TN\, 38111\, United States
ATTACH;FMTTYPE=image/png:https://home.memphisdsa.org/wp-content/uploads/2021/07/CircularLogo-Transparent-e1748382636843.png
ORGANIZER;CN="Memphis-Midsouth Steering Committee":MAILTO:memphisdsa@gmail.com
END:VEVENT
BEGIN:VEVENT
DTSTART;TZID=America/Chicago:20250120T180000
DTEND;TZID=America/Chicago:20250120T200000
DTSTAMP:20260423T232520
CREATED:20250109T040625Z
LAST-MODIFIED:20250109T040625Z
UID:316-1737396000-1737403200@home.memphisdsa.org
SUMMARY:Workplace Organizing Committee
DESCRIPTION:The purpose of this committee broadly is to support efforts at unionization\, labor solidarity\, and worker cooperative formation in west Tennessee. Attend to support unorganized and newly organized workers\, learn skills to organize workplaces\, or get support in organizing yours. \nThis committee aims to organize to increase workers control over their workplace\, politics\, and lives. It works\, along with the larger chapter of DSA\, to organize for power. \nMembers and interested/supportive guests are more than welcome to attend.
URL:https://home.memphisdsa.org/event/workplace-organizing-committee-3/
LOCATION:Contact memphisdsa@gmail.com if you want to attend and need this event’s address/location information.\, Memphis\, TN\, 38111\, United States
ATTACH;FMTTYPE=image/png:https://home.memphisdsa.org/wp-content/uploads/2021/07/CircularLogo-Transparent-e1748382636843.png
END:VEVENT
BEGIN:VEVENT
DTSTART;TZID=America/Chicago:20250123T180000
DTEND;TZID=America/Chicago:20250123T210000
DTSTAMP:20260423T232520
CREATED:20241218T192553Z
LAST-MODIFIED:20241218T194239Z
UID:308-1737655200-1737666000@home.memphisdsa.org
SUMMARY:Socialist Social
DESCRIPTION:Feeling frustrated and fired up? \nJoin socialists\, friends\, and fellow travelers to kick off a new year of political struggle! During the week of Trump’s inauguration\, this event is a chance to gather\, share thoughts\, and find solidarity and joy with others who want to change the world. Whether you’re a longtime DSA member\, new to the movement\, or just curious about socialism and DSA\, everyone is welcome to come connect and build community. We’ll have light bites to keep the conversation flowing—and your first drink is on us! \nLet’s turn our frustrations into power and solidarity as we chart a path forward together.
URL:https://home.memphisdsa.org/event/socialist-social/
LOCATION:RP Tracks\, 3547 Walker Ave\, Memphis\, 38111\, United States
ATTACH;FMTTYPE=image/png:https://home.memphisdsa.org/wp-content/uploads/2021/07/cropped-DSALogo2-3-v3.png
END:VEVENT
BEGIN:VEVENT
DTSTART;TZID=America/Chicago:20250129T180000
DTEND;TZID=America/Chicago:20250129T200000
DTSTAMP:20260423T232520
CREATED:20241218T191519Z
LAST-MODIFIED:20250122T161821Z
UID:304-1738173600-1738180800@home.memphisdsa.org
SUMMARY:Mutual Aid Committee Meeting
DESCRIPTION:Join us for we continue forming a Mutual Aid Committee for Memphis Mid-South DSA and brainstorm ways we can support and uplift our community together. Non-DSA members are welcome.
URL:https://home.memphisdsa.org/event/mutual-aid-committee-exploratory-meeting-3/
LOCATION:Contact memphisdsa@gmail.com if you want to attend and need this event’s address/location information.\, Memphis\, TN\, 38111\, United States
CATEGORIES:Mutual Aid
ATTACH;FMTTYPE=image/png:https://home.memphisdsa.org/wp-content/uploads/2021/07/CircularLogo-Transparent-e1748382636843.png
END:VEVENT
END:VCALENDAR