BEGIN:VCALENDAR
VERSION:2.0
PRODID:-//Memphis-Midsouth - ECPv6.15.17.1//NONSGML v1.0//EN
CALSCALE:GREGORIAN
METHOD:PUBLISH
X-WR-CALNAME:Memphis-Midsouth
X-ORIGINAL-URL:https://home.memphisdsa.org
X-WR-CALDESC:Events for Memphis-Midsouth
REFRESH-INTERVAL;VALUE=DURATION:PT1H
X-Robots-Tag:noindex
X-PUBLISHED-TTL:PT1H
BEGIN:VTIMEZONE
TZID:America/Chicago
BEGIN:DAYLIGHT
TZOFFSETFROM:-0600
TZOFFSETTO:-0500
TZNAME:CDT
DTSTART:20230312T080000
END:DAYLIGHT
BEGIN:STANDARD
TZOFFSETFROM:-0500
TZOFFSETTO:-0600
TZNAME:CST
DTSTART:20231105T070000
END:STANDARD
BEGIN:DAYLIGHT
TZOFFSETFROM:-0600
TZOFFSETTO:-0500
TZNAME:CDT
DTSTART:20240310T080000
END:DAYLIGHT
BEGIN:STANDARD
TZOFFSETFROM:-0500
TZOFFSETTO:-0600
TZNAME:CST
DTSTART:20241103T070000
END:STANDARD
BEGIN:DAYLIGHT
TZOFFSETFROM:-0600
TZOFFSETTO:-0500
TZNAME:CDT
DTSTART:20250309T080000
END:DAYLIGHT
BEGIN:STANDARD
TZOFFSETFROM:-0500
TZOFFSETTO:-0600
TZNAME:CST
DTSTART:20251102T070000
END:STANDARD
END:VTIMEZONE
BEGIN:VEVENT
DTSTART;TZID=America/Chicago:20241008T180000
DTEND;TZID=America/Chicago:20241008T200000
DTSTAMP:20260424T003736
CREATED:20240330T172652Z
LAST-MODIFIED:20240330T172757Z
UID:144-1728410400-1728417600@home.memphisdsa.org
SUMMARY:Memphis-Midsouth DSA General Meeting
DESCRIPTION:General Meetings for our chapter bi-monthly on the second Tuesday of each month during 2024. These meetings in particular are for voting on motions and resolutions\, electing new officers\, reports from committees\, and other decisive business. \nMembers and non-members are both welcome to attend\, but only members can vote.
URL:https://home.memphisdsa.org/event/memphis-midsouth-dsa-general-meeting-4/
LOCATION:Contact memphisdsa@gmail.com if you want to attend and need this event’s address/location information.\, Memphis\, TN\, 38111\, United States
ATTACH;FMTTYPE=image/png:https://home.memphisdsa.org/wp-content/uploads/2021/07/cropped-DSALogo2-3-v3.png
END:VEVENT
BEGIN:VEVENT
DTSTART;TZID=America/Chicago:20241014T180000
DTEND;TZID=America/Chicago:20241014T200000
DTSTAMP:20260424T003736
CREATED:20241009T025646Z
LAST-MODIFIED:20241009T025646Z
UID:252-1728928800-1728936000@home.memphisdsa.org
SUMMARY:Workplace Organizing Committee Meeting
DESCRIPTION:The purpose of this committee broadly is to support efforts at unionization\, labor solidarity\, and worker cooperative formation in west Tennessee. Our Steering Committee strongly encourages attendance to help shape this work in its early stages. \nMembers and interested/supportive guests are more than welcome to attend.
URL:https://home.memphisdsa.org/event/workplace-organizing-committee-meeting-10/
LOCATION:Contact memphisdsa@gmail.com if you want to attend and need this event’s address/location information.\, Memphis\, TN\, 38111\, United States
ATTACH;FMTTYPE=image/png:https://home.memphisdsa.org/wp-content/uploads/2021/07/cropped-DSALogo2-3-v3.png
END:VEVENT
BEGIN:VEVENT
DTSTART;TZID=America/Chicago:20241017T190000
DTEND;TZID=America/Chicago:20241017T210000
DTSTAMP:20260424T003736
CREATED:20240827T175949Z
LAST-MODIFIED:20240827T175949Z
UID:231-1729191600-1729198800@home.memphisdsa.org
SUMMARY:Legislative Action Committee Meeting
DESCRIPTION:Our Legislative Action Committee aims to: \n\nIdentify structural barriers to participating in local government;\nDevelop strategies to increase political engagement and participation among working people; and\nCollaborate with community stakeholders to foster collective action towards a more participatory and responsive local government.\n\nFor further details on the committee’s mandate\, please refer to the motion passed during our April general meeting.
URL:https://home.memphisdsa.org/event/legislative-action-committee-meeting-7/
LOCATION:TN
ATTACH;FMTTYPE=image/png:https://home.memphisdsa.org/wp-content/uploads/2021/07/CircularLogo-Transparent-e1748382636843.png
END:VEVENT
BEGIN:VEVENT
DTSTART;TZID=America/Chicago:20241027T140000
DTEND;TZID=America/Chicago:20241027T170000
DTSTAMP:20260424T003736
CREATED:20240924T202736Z
LAST-MODIFIED:20240924T202736Z
UID:247-1730037600-1730048400@home.memphisdsa.org
SUMMARY:Solidarity Sunday with TN State House Candidate Noah Nordstrom
DESCRIPTION:We’re excited to announce Solidarity Sunday to support Noah Nordstrom\, our DSA-endorsed candidate for Tennessee State House District 83! \nSolidarity Sundays Details\n\nDate: Sunday\, October 27 \nTime: 2–5 pm\nLocation: Starting at Noah’s house (6220 Forest Grove Drive\, Memphis\, TN 38119)\n\nCome enjoy pancakes and OJ while the Nordstrom campaign leads a brief orientation from 2–3 pm. Afterward\, we’ll head out for door-knocking in the district. This is a great opportunity to connect with fellow members\, support Noah’s campaign\, and help spread his message of investing in public schools\, supporting workers’ rights\, and ending the genocide against Palestinians. \nLet us know if you can make it for October 27 here.
URL:https://home.memphisdsa.org/event/solidarity-sunday-with-tn-state-house-candidate-noah-nordstrom-2/
LOCATION:6220 Forest Grove Drive\, Memphis\, TN 38119\, 6220 Forest Grove Drive\, Memphis\, 38119\, United States
ATTACH;FMTTYPE=image/jpeg:https://home.memphisdsa.org/wp-content/uploads/2024/09/image0.jpeg
END:VEVENT
BEGIN:VEVENT
DTSTART;TZID=America/Chicago:20241028T180000
DTEND;TZID=America/Chicago:20241028T200000
DTSTAMP:20260424T003736
CREATED:20241028T141505Z
LAST-MODIFIED:20241028T141505Z
UID:256-1730138400-1730145600@home.memphisdsa.org
SUMMARY:Workplace Organizing Committee Meeting
DESCRIPTION:The purpose of this committee broadly is to support efforts at unionization\, labor solidarity\, and worker cooperative formation in west Tennessee. Our Steering Committee strongly encourages attendance to help shape this work in its early stages. \nMembers and interested/supportive guests are more than welcome to attend.
URL:https://home.memphisdsa.org/event/workplace-organizing-committee-meeting-11/
LOCATION:Contact memphisdsa@gmail.com if you want to attend and need this event’s address/location information.\, Memphis\, TN\, 38111\, United States
ATTACH;FMTTYPE=image/png:https://home.memphisdsa.org/wp-content/uploads/2021/07/CircularLogo-Transparent-e1748382636843.png
END:VEVENT
END:VCALENDAR