BEGIN:VCALENDAR
VERSION:2.0
PRODID:-//Memphis-Midsouth - ECPv6.15.17.1//NONSGML v1.0//EN
CALSCALE:GREGORIAN
METHOD:PUBLISH
X-ORIGINAL-URL:https://home.memphisdsa.org
X-WR-CALDESC:Events for Memphis-Midsouth
REFRESH-INTERVAL;VALUE=DURATION:PT1H
X-Robots-Tag:noindex
X-PUBLISHED-TTL:PT1H
BEGIN:VTIMEZONE
TZID:America/Chicago
BEGIN:DAYLIGHT
TZOFFSETFROM:-0600
TZOFFSETTO:-0500
TZNAME:CDT
DTSTART:20240310T080000
END:DAYLIGHT
BEGIN:STANDARD
TZOFFSETFROM:-0500
TZOFFSETTO:-0600
TZNAME:CST
DTSTART:20241103T070000
END:STANDARD
BEGIN:DAYLIGHT
TZOFFSETFROM:-0600
TZOFFSETTO:-0500
TZNAME:CDT
DTSTART:20250309T080000
END:DAYLIGHT
BEGIN:STANDARD
TZOFFSETFROM:-0500
TZOFFSETTO:-0600
TZNAME:CST
DTSTART:20251102T070000
END:STANDARD
BEGIN:DAYLIGHT
TZOFFSETFROM:-0600
TZOFFSETTO:-0500
TZNAME:CDT
DTSTART:20260308T080000
END:DAYLIGHT
BEGIN:STANDARD
TZOFFSETFROM:-0500
TZOFFSETTO:-0600
TZNAME:CST
DTSTART:20261101T070000
END:STANDARD
END:VTIMEZONE
BEGIN:VEVENT
DTSTART;TZID=America/Chicago:20250605T183000
DTEND;TZID=America/Chicago:20250605T193000
DTSTAMP:20260424T023905
CREATED:20250527T215327Z
LAST-MODIFIED:20250527T225844Z
UID:533-1749148200-1749151800@home.memphisdsa.org
SUMMARY:Comms Committee Work-Along (Virtual)
DESCRIPTION:Join the MMDSA Communications Committee as we meet for our weekly meeting and collaborative work time. We will check in with requests from the chapter for communications support and work collaboratively on producing what is needed to spread the word about our work! \nMeeting is virtual – please contact the chapter at memphisdsa@gmail.com for the link.
URL:https://home.memphisdsa.org/event/communications-committee-work-along/
CATEGORIES:Communications
END:VEVENT
BEGIN:VEVENT
DTSTART;TZID=America/Chicago:20250605T200000
DTEND;TZID=America/Chicago:20250605T210000
DTSTAMP:20260424T023905
CREATED:20250522T142536Z
LAST-MODIFIED:20250527T223416Z
UID:522-1749153600-1749157200@home.memphisdsa.org
SUMMARY:📚 Bigger Than Bernie – Chapter Six and Conclusion Discussion (Virtual)
DESCRIPTION:We will learn from recent socialist campaigns for elected office in the US to shape the strategy and infrastructure for our electoral and policy work. \nThis culminating session will meet virtually to discuss Chapter Six and the Conclusion of Bigger Than Bernie by Meagan Day and Micah Uetricht. We will meet via Zoom.
URL:https://home.memphisdsa.org/event/%f0%9f%93%9a-bigger-than-bernie-chapter-six-and-conclusion-discussion/
CATEGORIES:Electoral & Policy
ATTACH;FMTTYPE=image/png:https://home.memphisdsa.org/wp-content/uploads/2025/04/Laptop-and-rose-bester.png
END:VEVENT
BEGIN:VEVENT
DTSTART;TZID=America/Chicago:20250608T133000
DTEND;TZID=America/Chicago:20250608T153000
DTSTAMP:20260424T023905
CREATED:20250527T215544Z
LAST-MODIFIED:20250607T151023Z
UID:535-1749389400-1749396600@home.memphisdsa.org
SUMMARY:Rain Date Rescheduled - Solidarity: Food Not Bombs Picnic Support
DESCRIPTION:Rescheduled to today due to rain: Join the Mutual Aid Committee and MMDSA membership in our regular support of Food Not Bombs at their weekly distribution of free food and resources alongside 901 Harm Reduction. \n\n\n\n\n\n\n\n\n\n\nLearn more about Food Not Bombs here \nLearn more about 901 Harm Reduction here
URL:https://home.memphisdsa.org/event/solidarity-food-not-bombs-picnic-support-6/
LOCATION:Court Square Park\, 62 N Main St\, Memphis\, TN\, 38103\, United States
CATEGORIES:Mutual Aid
END:VEVENT
BEGIN:VEVENT
DTSTART;TZID=America/Chicago:20250608T140000
DTEND;TZID=America/Chicago:20250608T170000
DTSTAMP:20260424T023905
CREATED:20250527T221344Z
LAST-MODIFIED:20250527T223638Z
UID:538-1749391200-1749402000@home.memphisdsa.org
SUMMARY:Pride Week: QUAC Potluck in the Park
DESCRIPTION:Support mutual aid by helping to run the Community Closet as we connect with queer leftists at the Pride Potluck hosted by Queers United Against Capitalism (QUAC) \nLearn more about QUAC here
URL:https://home.memphisdsa.org/event/solidarity-pride-picnic-community-closet-with-quac/
LOCATION:Overton Park – East Parkway Entrance\, 389 East Parkway North\, Memphis
CATEGORIES:Mutual Aid
END:VEVENT
BEGIN:VEVENT
DTSTART;TZID=America/Chicago:20250609T180000
DTEND;TZID=America/Chicago:20250609T200000
DTSTAMP:20260424T023905
CREATED:20250527T222348Z
LAST-MODIFIED:20250527T222348Z
UID:543-1749492000-1749499200@home.memphisdsa.org
SUMMARY:Workplace Organizing Committee Meeting
DESCRIPTION:Open to members and interested/supportive guests\, this committee meets biweekly to organize around increasing worker control over their jobs and lives. \nWe work alongside the broader MMDSA chapter to organize for power. 
URL:https://home.memphisdsa.org/event/workplace-organizing-committee-meeting-19/
LOCATION:Contact memphisdsa@gmail.com if you want to attend and need this event’s address/location information.\, Memphis\, TN\, 38111\, United States
CATEGORIES:Workplace Organizing
ATTACH;FMTTYPE=image/png:https://home.memphisdsa.org/wp-content/uploads/2025/04/Screen-Shot-2025-04-29-at-12.00.23-PM.png
END:VEVENT
BEGIN:VEVENT
DTSTART;TZID=America/Chicago:20250610T180000
DTEND;TZID=America/Chicago:20250610T200000
DTSTAMP:20260424T023905
CREATED:20250502T185043Z
LAST-MODIFIED:20250527T223522Z
UID:486-1749578400-1749585600@home.memphisdsa.org
SUMMARY:Memphis-Midsouth DSA General Meeting *NEW LOCATION*
DESCRIPTION:General Meetings for our chapter bi-monthly on the second Tuesday of each month during 2025. These meetings are for chapter updates and decisive business\, including voting on motions and resolutions\, electing new officers\, reports from committees\, and more \nMembers and non-members are both welcome to attend\, but only members can vote.
URL:https://home.memphisdsa.org/event/memphis-midsouth-dsa-general-meeting-7/
LOCATION:No. 2 Vance\, 325 Wagner Pl\, Memphis\, TN\, 38103\, United States
CATEGORIES:General Meeting
ATTACH;FMTTYPE=image/png:https://home.memphisdsa.org/wp-content/uploads/2021/07/DSALogo2-3-v3.png
END:VEVENT
BEGIN:VEVENT
DTSTART;TZID=America/Chicago:20250612T183000
DTEND;TZID=America/Chicago:20250612T193000
DTSTAMP:20260424T023905
CREATED:20250527T224354Z
LAST-MODIFIED:20250527T225834Z
UID:559-1749753000-1749756600@home.memphisdsa.org
SUMMARY:Comms Committee Work-Along (Virtual)
DESCRIPTION:Join the MMDSA Communications Committee as we meet for our weekly meeting and collaborative work time. We will check in with requests from the chapter for communications support and work collaboratively on producing what is needed to spread the word about our work! \nMeeting is virtual – please contact the chapter at memphisdsa@gmail.com for the link.
URL:https://home.memphisdsa.org/event/communications-committee-work-along-virtual/
CATEGORIES:Communications
END:VEVENT
BEGIN:VEVENT
DTSTART;TZID=America/Chicago:20250613T170000
DTEND;TZID=America/Chicago:20250613T220000
DTSTAMP:20260424T023905
CREATED:20250527T224201Z
LAST-MODIFIED:20250527T224201Z
UID:556-1749834000-1749852000@home.memphisdsa.org
SUMMARY:Pride Week: People's Pride
DESCRIPTION:People’s Pride is a grassroots response to corporate pride\, with a focus on uplifting all members of the LGBTQ+ community. \nOur chapter will be offering our community closet and tabling with information about the MMDSA
URL:https://home.memphisdsa.org/event/pride-week-peoples-pride/
LOCATION:HavenHaus\, 84 E GE Patterson\, Memphis\, TN\, 38103\, United States
CATEGORIES:Mutual Aid
END:VEVENT
BEGIN:VEVENT
DTSTART;TZID=America/Chicago:20250614T133000
DTEND;TZID=America/Chicago:20250614T153000
DTSTAMP:20260424T023905
CREATED:20250527T224932Z
LAST-MODIFIED:20250527T224932Z
UID:564-1749907800-1749915000@home.memphisdsa.org
SUMMARY:Solidarity: Food Not Bombs Picnic Support
DESCRIPTION:Join the Mutual Aid Committee and MMDSA membership in our regular support of Food Not Bombs at their weekly distribution of free food and resources alongside 901 Harm Reduction. \n\n\n\n\n\n\n\n\n\n\nLearn more about Food Not Bombs here \nLearn more about 901 Harm Reduction here
URL:https://home.memphisdsa.org/event/solidarity-food-not-bombs-picnic-support-7/
LOCATION:Court Square Park\, 62 N Main St\, Memphis\, TN\, 38103\, United States
CATEGORIES:Mutual Aid
END:VEVENT
BEGIN:VEVENT
DTSTART;TZID=America/Chicago:20250614T160000
DTEND;TZID=America/Chicago:20250614T210000
DTSTAMP:20260424T023905
CREATED:20250527T224801Z
LAST-MODIFIED:20250610T165401Z
UID:561-1749916800-1749934800@home.memphisdsa.org
SUMMARY:Pride Week: Tabling at Memphis Roller Derby
DESCRIPTION:Alongside Food Not Bombs and 901 Harm Reduction\, we will be tabling to spread the word about our chapter
URL:https://home.memphisdsa.org/event/pride-week-tabling-at-memphis-roller-derby/
LOCATION:Pipkin Building\, 940 Early Maxwell Blvd\, Memphis\, TN\, 38104\, United States
CATEGORIES:Mutual Aid
END:VEVENT
BEGIN:VEVENT
DTSTART;TZID=America/Chicago:20250618T180000
DTEND;TZID=America/Chicago:20250618T200000
DTSTAMP:20260424T023905
CREATED:20250527T225557Z
LAST-MODIFIED:20250527T225557Z
UID:570-1750269600-1750276800@home.memphisdsa.org
SUMMARY:Mutual Aid Committee Meeting
DESCRIPTION:Open to members and interested/supportive guests –  this committee supports mutual aid efforts\, studies mutual aid approaches\, and builds our own original mutual aid projects
URL:https://home.memphisdsa.org/event/mutual-aid-committee-meeting-7/
LOCATION:Contact memphisdsa@gmail.com if you want to attend and need this event’s address/location information.\, Memphis\, TN\, 38111\, United States
CATEGORIES:Mutual Aid
ATTACH;FMTTYPE=image/png:https://home.memphisdsa.org/wp-content/uploads/2021/07/CircularLogo-Transparent-e1748382636843.png
END:VEVENT
BEGIN:VEVENT
DTSTART;TZID=America/Chicago:20250619T183000
DTEND;TZID=America/Chicago:20250619T193000
DTSTAMP:20260424T023905
CREATED:20250527T225731Z
LAST-MODIFIED:20250527T225731Z
UID:572-1750357800-1750361400@home.memphisdsa.org
SUMMARY:Comms Committee Work-Along (Virtual)
DESCRIPTION:Join the MMDSA Communications Committee as we meet for our weekly meeting and collaborative work time. We will check in with requests from the chapter for communications support and work collaboratively on producing what is needed to spread the word about our work! \nMeeting is virtual – please contact the chapter at memphisdsa@gmail.com for the link.
URL:https://home.memphisdsa.org/event/comms-committee-work-along-virtual/
CATEGORIES:Communications
END:VEVENT
BEGIN:VEVENT
DTSTART;TZID=America/Chicago:20250621T133000
DTEND;TZID=America/Chicago:20250621T153000
DTSTAMP:20260424T023905
CREATED:20250527T225308Z
LAST-MODIFIED:20250527T225308Z
UID:566-1750512600-1750519800@home.memphisdsa.org
SUMMARY:Solidarity: Food Not Bombs Picnic Support
DESCRIPTION:Join the Mutual Aid Committee and MMDSA membership in our regular support of Food Not Bombs at their weekly distribution of free food and resources alongside 901 Harm Reduction. \n\n\n\n\n\n\n\n\n\n\nLearn more about Food Not Bombs here \nLearn more about 901 Harm Reduction here
URL:https://home.memphisdsa.org/event/solidarity-food-not-bombs-picnic-support-8/
LOCATION:Court Square Park\, 62 N Main St\, Memphis\, TN\, 38103\, United States
CATEGORIES:Mutual Aid
END:VEVENT
BEGIN:VEVENT
DTSTART;TZID=America/Chicago:20250623T180000
DTEND;TZID=America/Chicago:20250623T200000
DTSTAMP:20260424T023905
CREATED:20250527T230213Z
LAST-MODIFIED:20250527T230235Z
UID:578-1750701600-1750708800@home.memphisdsa.org
SUMMARY:Workplace Organizing Committee
DESCRIPTION:Open to members and interested/supportive guests\, this committee meets biweekly to organize around increasing worker control over their jobs and lives. \nWe work alongside the broader MMDSA chapter to organize for power. 
URL:https://home.memphisdsa.org/event/workplace-organizing-committee-8/
LOCATION:Contact memphisdsa@gmail.com if you want to attend and need this event’s address/location information.\, Memphis\, TN\, 38111\, United States
CATEGORIES:Workplace Organizing
ATTACH;FMTTYPE=image/png:https://home.memphisdsa.org/wp-content/uploads/2025/04/Screen-Shot-2025-04-29-at-12.00.23-PM.png
END:VEVENT
BEGIN:VEVENT
DTSTART;TZID=America/Chicago:20250626T183000
DTEND;TZID=America/Chicago:20250626T193000
DTSTAMP:20260424T023905
CREATED:20250527T230025Z
LAST-MODIFIED:20250527T230025Z
UID:576-1750962600-1750966200@home.memphisdsa.org
SUMMARY:Comms Committee Work-Along (Virtual)
DESCRIPTION:Join the MMDSA Communications Committee as we meet for our weekly meeting and collaborative work time. We will check in with requests from the chapter for communications support and work collaboratively on producing what is needed to spread the word about our work! \nMeeting is virtual – please contact the chapter at memphisdsa@gmail.com for the link.
URL:https://home.memphisdsa.org/event/comms-committee-work-along-virtual-2/
CATEGORIES:Communications
END:VEVENT
BEGIN:VEVENT
DTSTART;TZID=America/Chicago:20250628T133000
DTEND;TZID=America/Chicago:20250628T153000
DTSTAMP:20260424T023905
CREATED:20250527T225410Z
LAST-MODIFIED:20250527T225410Z
UID:568-1751117400-1751124600@home.memphisdsa.org
SUMMARY:Solidarity: Food Not Bombs Picnic Support
DESCRIPTION:Join the Mutual Aid Committee and MMDSA membership in our regular support of Food Not Bombs at their weekly distribution of free food and resources alongside 901 Harm Reduction. \n\n\n\n\n\n\n\n\n\n\nLearn more about Food Not Bombs here \nLearn more about 901 Harm Reduction here
URL:https://home.memphisdsa.org/event/solidarity-food-not-bombs-picnic-support-9/
LOCATION:Court Square Park\, 62 N Main St\, Memphis\, TN\, 38103\, United States
CATEGORIES:Mutual Aid
END:VEVENT
BEGIN:VEVENT
DTSTART;TZID=America/Chicago:20250702T180000
DTEND;TZID=America/Chicago:20250702T200000
DTSTAMP:20260424T023905
CREATED:20250610T192610Z
LAST-MODIFIED:20250610T192610Z
UID:592-1751479200-1751486400@home.memphisdsa.org
SUMMARY:Mutual Aid Committee Meeting
DESCRIPTION:Open to members and interested/supportive guests –  this committee supports mutual aid efforts\, studies mutual aid approaches\, and builds our own original mutual aid projects
URL:https://home.memphisdsa.org/event/mutual-aid-committee-meeting-8/
LOCATION:Contact memphisdsa@gmail.com if you want to attend and need this event’s address/location information.\, Memphis\, TN\, 38111\, United States
CATEGORIES:Mutual Aid
ATTACH;FMTTYPE=image/png:https://home.memphisdsa.org/wp-content/uploads/2021/07/CircularLogo-Transparent-e1748382636843.png
END:VEVENT
BEGIN:VEVENT
DTSTART;TZID=America/Chicago:20250705T133000
DTEND;TZID=America/Chicago:20250705T153000
DTSTAMP:20260424T023905
CREATED:20250610T192856Z
LAST-MODIFIED:20250610T192856Z
UID:596-1751722200-1751729400@home.memphisdsa.org
SUMMARY:Solidarity: Food Not Bombs Picnic Support
DESCRIPTION:Join the Mutual Aid Committee and MMDSA membership in our regular support of Food Not Bombs at their weekly distribution of free food and resources alongside 901 Harm Reduction. \n\n\n\n\n\n\n\n\n\n\nLearn more about Food Not Bombs here \nLearn more about 901 Harm Reduction here
URL:https://home.memphisdsa.org/event/solidarity-food-not-bombs-picnic-support-10/
LOCATION:Court Square Park\, 62 N Main St\, Memphis\, TN\, 38103\, United States
CATEGORIES:Mutual Aid
END:VEVENT
BEGIN:VEVENT
DTSTART;TZID=America/Chicago:20250707T180000
DTEND;TZID=America/Chicago:20250707T200000
DTSTAMP:20260424T023905
CREATED:20250610T193021Z
LAST-MODIFIED:20250610T193021Z
UID:598-1751911200-1751918400@home.memphisdsa.org
SUMMARY:Workplace Organizing Committee Meeting
DESCRIPTION:Open to members and interested/supportive guests\, this committee meets biweekly to organize around increasing worker control over their jobs and lives. \nWe work alongside the broader Memphis Midsouth Democratic Socialists of America chapter to organize for power. 
URL:https://home.memphisdsa.org/event/workplace-organizing-committee-meeting-20/
LOCATION:Contact memphisdsa@gmail.com if you want to attend and need this event’s address/location information.\, Memphis\, TN\, 38111\, United States
CATEGORIES:Workplace Organizing
END:VEVENT
BEGIN:VEVENT
DTSTART;TZID=America/Chicago:20250710T183000
DTEND;TZID=America/Chicago:20250710T193000
DTSTAMP:20260424T023905
CREATED:20250610T193605Z
LAST-MODIFIED:20250702T203751Z
UID:600-1752172200-1752175800@home.memphisdsa.org
SUMMARY:Comms Committee Work-Along (Virtual)
DESCRIPTION:Join the MMDSA Communications Committee as we meet for our weekly meeting and collaborative work time. We will check in with requests from the chapter for communications support and work collaboratively on producing what is needed to spread the word about our work! \nMeeting is virtual – please contact the chapter at memphisdsa@gmail.com for the link
URL:https://home.memphisdsa.org/event/comms-committee-work-along-virtual-4/
CATEGORIES:Communications
END:VEVENT
BEGIN:VEVENT
DTSTART;TZID=America/Chicago:20250712T133000
DTEND;TZID=America/Chicago:20250712T153000
DTSTAMP:20260424T023905
CREATED:20250610T193725Z
LAST-MODIFIED:20250610T193725Z
UID:602-1752327000-1752334200@home.memphisdsa.org
SUMMARY:Solidarity: Food Not Bombs Picnic Support
DESCRIPTION:Join the Mutual Aid Committee and MMDSA membership in our regular support of Food Not Bombs at their weekly distribution of free food and resources alongside 901 Harm Reduction. \n\n\n\n\n\n\n\n\n\n\nLearn more about Food Not Bombs here \nLearn more about 901 Harm Reduction here
URL:https://home.memphisdsa.org/event/solidarity-food-not-bombs-picnic-support-11/
LOCATION:Court Square Park\, 62 N Main St\, Memphis\, TN\, 38103\, United States
CATEGORIES:Mutual Aid
END:VEVENT
BEGIN:VEVENT
DTSTART;TZID=America/Chicago:20250714T180000
DTEND;TZID=America/Chicago:20250714T200000
DTSTAMP:20260424T023905
CREATED:20250610T155052Z
LAST-MODIFIED:20250714T143539Z
UID:590-1752516000-1752523200@home.memphisdsa.org
SUMMARY:Electoral & Policy Committee Meeting
DESCRIPTION:Interested in the role electoral organizing can play in our fight for the working class? Let’s learn from successful leftist political movements and strengthen our organizing skills as we build dual power for the people in the Midsouth \n 
URL:https://home.memphisdsa.org/event/electoral-policy-committee-meeting/
LOCATION:RP Tracks\, 3547 Walker Ave\, Memphis\, 38111\, United States
CATEGORIES:Electoral & Policy
ATTACH;FMTTYPE=image/png:https://home.memphisdsa.org/wp-content/uploads/2025/04/Screen-Shot-2025-04-29-at-10.52.40-AM.png
END:VEVENT
BEGIN:VEVENT
DTSTART;TZID=America/Chicago:20250716T163000
DTEND;TZID=America/Chicago:20250716T173000
DTSTAMP:20260424T023905
CREATED:20250715T133200Z
LAST-MODIFIED:20250716T161955Z
UID:623-1752683400-1752687000@home.memphisdsa.org
SUMMARY:Membership Education & Engagement Committee Meeting
DESCRIPTION:The Membership Education and Engagement Committee is open to all who want to strengthen our membership and build a learning pathway for our chapter. \nContact memphisdsa@gmail.com to get connected
URL:https://home.memphisdsa.org/event/membership-education-engagement-committee-meeting/
CATEGORIES:Membership Education & Engagement
END:VEVENT
BEGIN:VEVENT
DTSTART;TZID=America/Chicago:20250716T180000
DTEND;TZID=America/Chicago:20250716T200000
DTSTAMP:20260424T023905
CREATED:20250610T193933Z
LAST-MODIFIED:20250610T193933Z
UID:604-1752688800-1752696000@home.memphisdsa.org
SUMMARY:Mutual Aid Committee Meeting
DESCRIPTION:Open to members and interested/supportive guests –  this committee supports mutual aid efforts\, studies mutual aid approaches\, and builds our own original mutual aid projects
URL:https://home.memphisdsa.org/event/mutual-aid-committee-meeting-9/
LOCATION:Contact memphisdsa@gmail.com if you want to attend and need this event’s address/location information.\, Memphis\, TN\, 38111\, United States
CATEGORIES:Mutual Aid
ATTACH;FMTTYPE=image/png:https://home.memphisdsa.org/wp-content/uploads/2021/07/CircularLogo-Transparent-e1748382636843.png
END:VEVENT
BEGIN:VEVENT
DTSTART;TZID=America/Chicago:20250717T180000
DTEND;TZID=America/Chicago:20250717T200000
DTSTAMP:20260424T023905
CREATED:20250715T155936Z
LAST-MODIFIED:20250715T161807Z
UID:631-1752775200-1752782400@home.memphisdsa.org
SUMMARY:Electoral Workshop Series: What is the DSA Difference?
DESCRIPTION:RSVP at Action Network! \nLearn about democratic socialist electoral strategy\, what makes for a good candidate\, and what separates DSA from other organizations when it comes to campaigning
URL:https://home.memphisdsa.org/event/memphis-democratic-socialists-electoral-workshop-series-electoral-101-what-is-the-dsa-difference/
CATEGORIES:Electoral & Policy
END:VEVENT
BEGIN:VEVENT
DTSTART;TZID=America/Chicago:20250719T133000
DTEND;TZID=America/Chicago:20250719T153000
DTSTAMP:20260424T023905
CREATED:20250610T195355Z
LAST-MODIFIED:20250610T195355Z
UID:612-1752931800-1752939000@home.memphisdsa.org
SUMMARY:Solidarity: Food Not Bombs Picnic Support
DESCRIPTION:Join the Mutual Aid Committee and MMDSA membership in our regular support of Food Not Bombs at their weekly distribution of free food and resources alongside 901 Harm Reduction. \n\n\n\n\n\n\n\n\n\n\nLearn more about Food Not Bombs here \nLearn more about 901 Harm Reduction here
URL:https://home.memphisdsa.org/event/solidarity-food-not-bombs-picnic-support-12/
LOCATION:Court Square Park\, 62 N Main St\, Memphis\, TN\, 38103\, United States
CATEGORIES:Mutual Aid
END:VEVENT
BEGIN:VEVENT
DTSTART;TZID=America/Chicago:20250720T180000
DTEND;TZID=America/Chicago:20250720T200000
DTSTAMP:20260424T023905
CREATED:20250715T142059Z
LAST-MODIFIED:20250715T170637Z
UID:628-1753034400-1753041600@home.memphisdsa.org
SUMMARY:New and Prospective Member Orientation
DESCRIPTION:Calling all new and prospective members! \nNew to Memphis-Midsouth DSA? Oldhead ready to recommit after a break? Want to learn more about all the great work we’re doing? Democratic socialist-curious?  \nCome connect to our chapter and learn what we’re up to in Memphis! \nJoin us on Sunday\, July 20\, from 6 – 8 PM and bring a friend to our New Member Orientation! Learn about the theory\, strategy\, and – most importantly! – the ACTIONS that democratic socialists in Memphis are developing together!
URL:https://home.memphisdsa.org/event/new-and-prospective-member-orientation/
LOCATION:RP Tracks\, 3547 Walker Ave\, Memphis\, 38111\, United States
CATEGORIES:Membership Education & Engagement
END:VEVENT
BEGIN:VEVENT
DTSTART;TZID=America/Chicago:20250721T180000
DTEND;TZID=America/Chicago:20250721T200000
DTSTAMP:20260424T023905
CREATED:20250610T195804Z
LAST-MODIFIED:20250610T195804Z
UID:618-1753120800-1753128000@home.memphisdsa.org
SUMMARY:Workplace Organizing Committee Meeting
DESCRIPTION:Open to members and interested/supportive guests\, this committee meets biweekly to organize around increasing worker control over their jobs and lives. \nWe work alongside the broader Memphis Midsouth Democratic Socialists of America chapter to organize for power. 
URL:https://home.memphisdsa.org/event/workplace-organizing-committee-meeting-21/
LOCATION:Contact memphisdsa@gmail.com if you want to attend and need this event’s address/location information.\, Memphis\, TN\, 38111\, United States
CATEGORIES:Workplace Organizing
END:VEVENT
BEGIN:VEVENT
DTSTART;TZID=America/Chicago:20250723T180000
DTEND;TZID=America/Chicago:20250723T210000
DTSTAMP:20260424T023905
CREATED:20250715T163429Z
LAST-MODIFIED:20250722T044206Z
UID:630-1753293600-1753304400@home.memphisdsa.org
SUMMARY:Trivia Night!
DESCRIPTION:Time to shine at Socialist Trivia Night! Engage in a bit of friendly competition as we square off in a battle of the brains\, with prizes for the winning teams! \nRSVP Here!
URL:https://home.memphisdsa.org/event/trivia-night/
LOCATION:Belle Tavern\, 117 Barboro Alley\, Memphis\, 38103
CATEGORIES:Social
ATTACH;FMTTYPE=image/png:https://home.memphisdsa.org/wp-content/uploads/2025/07/Screenshot-2025-07-21-at-11.41.29-PM.png
END:VEVENT
BEGIN:VEVENT
DTSTART;TZID=America/Chicago:20250726T133000
DTEND;TZID=America/Chicago:20250726T153000
DTSTAMP:20260424T023905
CREATED:20250610T195453Z
LAST-MODIFIED:20250610T195453Z
UID:614-1753536600-1753543800@home.memphisdsa.org
SUMMARY:Solidarity: Food Not Bombs Picnic Support
DESCRIPTION:Join the Mutual Aid Committee and MMDSA membership in our regular support of Food Not Bombs at their weekly distribution of free food and resources alongside 901 Harm Reduction. \n\n\n\n\n\n\n\n\n\n\nLearn more about Food Not Bombs here \nLearn more about 901 Harm Reduction here
URL:https://home.memphisdsa.org/event/solidarity-food-not-bombs-picnic-support-13/
LOCATION:Court Square Park\, 62 N Main St\, Memphis\, TN\, 38103\, United States
CATEGORIES:Mutual Aid
END:VEVENT
END:VCALENDAR