BEGIN:VCALENDAR
VERSION:2.0
PRODID:-//Memphis-Midsouth - ECPv6.15.17.1//NONSGML v1.0//EN
CALSCALE:GREGORIAN
METHOD:PUBLISH
X-ORIGINAL-URL:https://home.memphisdsa.org
X-WR-CALDESC:Events for Memphis-Midsouth
REFRESH-INTERVAL;VALUE=DURATION:PT1H
X-Robots-Tag:noindex
X-PUBLISHED-TTL:PT1H
BEGIN:VTIMEZONE
TZID:America/Chicago
BEGIN:DAYLIGHT
TZOFFSETFROM:-0600
TZOFFSETTO:-0500
TZNAME:CDT
DTSTART:20240310T080000
END:DAYLIGHT
BEGIN:STANDARD
TZOFFSETFROM:-0500
TZOFFSETTO:-0600
TZNAME:CST
DTSTART:20241103T070000
END:STANDARD
BEGIN:DAYLIGHT
TZOFFSETFROM:-0600
TZOFFSETTO:-0500
TZNAME:CDT
DTSTART:20250309T080000
END:DAYLIGHT
BEGIN:STANDARD
TZOFFSETFROM:-0500
TZOFFSETTO:-0600
TZNAME:CST
DTSTART:20251102T070000
END:STANDARD
BEGIN:DAYLIGHT
TZOFFSETFROM:-0600
TZOFFSETTO:-0500
TZNAME:CDT
DTSTART:20260308T080000
END:DAYLIGHT
BEGIN:STANDARD
TZOFFSETFROM:-0500
TZOFFSETTO:-0600
TZNAME:CST
DTSTART:20261101T070000
END:STANDARD
END:VTIMEZONE
BEGIN:VEVENT
DTSTART;TZID=America/Chicago:20250326T180000
DTEND;TZID=America/Chicago:20250326T200000
DTSTAMP:20260424T072028
CREATED:20250228T191217Z
LAST-MODIFIED:20250228T202924Z
UID:375-1743012000-1743019200@home.memphisdsa.org
SUMMARY:Mutual Aid Committee Meeting
DESCRIPTION:Open to members and interested/supportive guests – this committee supports mutual aid efforts\, studies mutual aid approaches\, and builds our own original mutual aid projects.
URL:https://home.memphisdsa.org/event/mutual-aid-committee-2/
LOCATION:Contact memphisdsa@gmail.com if you want to attend and need this event’s address/location information.\, Memphis\, TN\, 38111\, United States
CATEGORIES:Mutual Aid
END:VEVENT
BEGIN:VEVENT
DTSTART;TZID=America/Chicago:20250331T180000
DTEND;TZID=America/Chicago:20250331T200000
DTSTAMP:20260424T072028
CREATED:20250228T191943Z
LAST-MODIFIED:20250228T203025Z
UID:377-1743444000-1743451200@home.memphisdsa.org
SUMMARY:Workplace Organizing Commitee Meeting
DESCRIPTION:Open to members and interested/supportive guests – this committee organizes to increase worker control over their workplace\, politics\, and lives. We work alongside the broader DSA chapter to organize for power. \n 
URL:https://home.memphisdsa.org/event/workplace-organizing-commitee/
LOCATION:Contact memphisdsa@gmail.com if you want to attend and need this event’s address/location information.\, Memphis\, TN\, 38111\, United States
CATEGORIES:Workplace Organizing
END:VEVENT
BEGIN:VEVENT
DTSTART;TZID=America/Chicago:20250408T180000
DTEND;TZID=America/Chicago:20250408T200000
DTSTAMP:20260424T072028
CREATED:20250228T193131Z
LAST-MODIFIED:20250401T211724Z
UID:379-1744135200-1744142400@home.memphisdsa.org
SUMMARY:Memphis-Midsouth DSA General Meeting
DESCRIPTION:General Meetings for our chapter bi-monthly on the second Tuesday of each month during 2025. These meetings are for chapter updates and decisive business\, including voting on motions and resolutions\, electing new officers\, reports from committees\, and more \nMembers and non-members are both welcome to attend\, but only members can vote.
URL:https://home.memphisdsa.org/event/memphis-midsouth-dsa-general-meeting-6/
LOCATION:RP Tracks\, 3547 Walker Ave\, Memphis\, 38111\, United States
CATEGORIES:General Meeting
ATTACH;FMTTYPE=image/png:https://home.memphisdsa.org/wp-content/uploads/2021/07/cropped-DSALogo2-3-v3.png
END:VEVENT
BEGIN:VEVENT
DTSTART;TZID=America/Chicago:20250409T180000
DTEND;TZID=America/Chicago:20250409T200000
DTSTAMP:20260424T072028
CREATED:20250401T211238Z
LAST-MODIFIED:20250401T211608Z
UID:397-1744221600-1744228800@home.memphisdsa.org
SUMMARY:Mutual Aid Committee Meeting
DESCRIPTION:Open to members and interested/supportive guests – this committee supports mutual aid efforts\, studies mutual aid approaches\, and builds our own original mutual aid projects
URL:https://home.memphisdsa.org/event/mutual-aid-committee-meeting-2/
LOCATION:Contact memphisdsa@gmail.com if you want to attend and need this event’s address/location information.\, Memphis\, TN\, 38111\, United States
CATEGORIES:Mutual Aid
ATTACH;FMTTYPE=image/png:https://home.memphisdsa.org/wp-content/uploads/2021/07/CircularLogo-Transparent-e1748382636843.png
END:VEVENT
BEGIN:VEVENT
DTSTART;TZID=America/Chicago:20250413T140000
DTEND;TZID=America/Chicago:20250413T160000
DTSTAMP:20260424T072028
CREATED:20250401T213144Z
LAST-MODIFIED:20250401T213720Z
UID:402-1744552800-1744560000@home.memphisdsa.org
SUMMARY:MMDSA Social: Bouldering at Memphis Rox
DESCRIPTION:Join the Memphis Midsouth DSA as we welcome members and supporters for an afternoon of climbing and camaraderie! \nOn Sunday\, April 13 from 2 – 4 p.m.\, our chapter will be holding a climbing social at Memphis Rox \nWhat will we be doing? \n\nWe are kicking off this ongoing opportunity for members and supporters of the chapter to socialize and build community while tackling climbing challenges together\nThis first hangout will be guided by chapter members with climbing experience\, with a focus on bouldering – learn how to safely fall and downclimb\n\n  \nHow much does this even cost? \n\nThe MMDSA chapter will cover entry for the first 20 attendees. Additional attendees will follow the pay-what-you-can expectations of Memphis Rox\n\nWhat should I wear to climb? \n\nComfortable exercise clothes with stretch so you can reach for your next hold – if possible\, wear red! You will be asked to wear climbing shoes that can be borrowed from Memphis Rox if you do not have a pair\n\nDo I need to be an experienced climber? \n\nNot at all!\n\nCan I bring a friend? What if they’re not a member? \n\nWe would love to welcome any and all “DSA-curious” attendees to learn more about the chapter\, vent about the state of the world\, and build connections to your fellow lefties. We also welcome you to bring your families\, including children!\n\nI have another question! \n\nGreat! Contact the chapter email at memphisdsa@gmail.com and we will get back to you!\n\n 
URL:https://home.memphisdsa.org/event/mmdsa-social-bouldering-at-memphis-rox/
LOCATION:Memphis Rox\, 879 E McLemore Ave\, Memphis\, 38106
CATEGORIES:Social
ATTACH;FMTTYPE=application/pdf:https://home.memphisdsa.org/wp-content/uploads/2025/04/Untitled-design-1.pdf
END:VEVENT
BEGIN:VEVENT
DTSTART;TZID=America/Chicago:20250414T180000
DTEND;TZID=America/Chicago:20250414T200000
DTSTAMP:20260424T072028
CREATED:20250401T195931Z
LAST-MODIFIED:20250401T211618Z
UID:393-1744653600-1744660800@home.memphisdsa.org
SUMMARY:Workplace Organizing Committee Meeting
DESCRIPTION:Open to members and interested/supportive guests\, this committee meets biweekly to organize around increasing worker control over their jobs and lives. \nWe work alongside the broader DSA chapter to organize for power. 
URL:https://home.memphisdsa.org/event/workplace-organizing-committee-meeting-15/
LOCATION:Contact memphisdsa@gmail.com if you want to attend and need this event’s address/location information.\, Memphis\, TN\, 38111\, United States
CATEGORIES:Workplace Organizing
ATTACH;FMTTYPE=image/png:https://home.memphisdsa.org/wp-content/uploads/2021/07/CircularLogo-Transparent-e1748382636843.png
END:VEVENT
BEGIN:VEVENT
DTSTART;TZID=America/Chicago:20250417T200000
DTEND;TZID=America/Chicago:20250417T210000
DTSTAMP:20260424T072028
CREATED:20250404T195700Z
LAST-MODIFIED:20250404T200220Z
UID:420-1744920000-1744923600@home.memphisdsa.org
SUMMARY:📚 Bigger Than Bernie - Preface and Introduction
DESCRIPTION:We will learn from recent socialist campaigns for elected office in the US to shape the strategy and infrastructure for our electoral politics work \nThis session will cover the preface and the introduction to Bigger Than Bernie by Meagan Day and Micah Uetricht \nWe will meet via Zoom
URL:https://home.memphisdsa.org/event/%f0%9f%93%9a-bigger-than-bernie-preface-and-introduction/
LOCATION:Virtual – Contact memphisdsa@gmail.com for the link
CATEGORIES:Electoral & Policy
ATTACH;FMTTYPE=image/png:https://home.memphisdsa.org/wp-content/uploads/2025/04/Laptop-and-rose-bester.png
END:VEVENT
BEGIN:VEVENT
DTSTART;TZID=America/Chicago:20250423T180000
DTEND;TZID=America/Chicago:20250423T200000
DTSTAMP:20260424T072028
CREATED:20250401T211521Z
LAST-MODIFIED:20250401T211626Z
UID:400-1745431200-1745438400@home.memphisdsa.org
SUMMARY:Mutual Aid Committee Meeting
DESCRIPTION:Open to members and interested/supportive guests – this committee supports mutual aid efforts\, studies mutual aid approaches\, and builds our own original mutual aid projects
URL:https://home.memphisdsa.org/event/mutual-aid-committee-meeting-3/
LOCATION:Contact memphisdsa@gmail.com if you want to attend and need this event’s address/location information.\, Memphis\, TN\, 38111\, United States
CATEGORIES:Mutual Aid
ATTACH;FMTTYPE=image/png:https://home.memphisdsa.org/wp-content/uploads/2021/07/CircularLogo-Transparent-e1748382636843.png
END:VEVENT
BEGIN:VEVENT
DTSTART;TZID=America/Chicago:20250424T200000
DTEND;TZID=America/Chicago:20250424T210000
DTSTAMP:20260424T072028
CREATED:20250404T200435Z
LAST-MODIFIED:20250404T200751Z
UID:426-1745524800-1745528400@home.memphisdsa.org
SUMMARY:📚 Bigger Than Bernie - Chapter One Discussion
DESCRIPTION:We will learn from recent socialist campaigns for elected office in the US to shape the strategy and infrastructure for our electoral politics work. \nThis session will meet virtually to discuss Chapter One of Bigger Than Bernie by Meagan Day and Micah Uetricht. We will meet via Zoom.
URL:https://home.memphisdsa.org/event/%f0%9f%93%9a-bigger-than-bernie-chapter-one-discussion/
LOCATION:Virtual – Contact memphisdsa@gmail.com for the link
CATEGORIES:Electoral & Policy
ATTACH;FMTTYPE=image/png:https://home.memphisdsa.org/wp-content/uploads/2025/04/Laptop-and-rose-bester.png
END:VEVENT
BEGIN:VEVENT
DTSTART;TZID=America/Chicago:20250428T180000
DTEND;TZID=America/Chicago:20250428T200000
DTSTAMP:20260424T072028
CREATED:20250401T201102Z
LAST-MODIFIED:20250401T211635Z
UID:395-1745863200-1745870400@home.memphisdsa.org
SUMMARY:Workplace Organizing Committee Meeting
DESCRIPTION:Open to members and interested/supportive guests\, this committee meets biweekly to organize around increasing worker control over their jobs and lives. \nWe work alongside the broader DSA chapter to organize for power. 
URL:https://home.memphisdsa.org/event/workplace-organizing-committee-meeting-16/
LOCATION:Contact memphisdsa@gmail.com if you want to attend and need this event’s address/location information.\, Memphis\, TN\, 38111\, United States
CATEGORIES:Workplace Organizing
ATTACH;FMTTYPE=image/png:https://home.memphisdsa.org/wp-content/uploads/2021/07/CircularLogo-Transparent-e1748382636843.png
END:VEVENT
BEGIN:VEVENT
DTSTART;TZID=America/Chicago:20250503T133000
DTEND;TZID=America/Chicago:20250503T153000
DTSTAMP:20260424T072028
CREATED:20250429T163026Z
LAST-MODIFIED:20250429T164429Z
UID:460-1746279000-1746286200@home.memphisdsa.org
SUMMARY:Solidarity: Food Not Bombs Picnic Support
DESCRIPTION:Join the Mutual Aid Committee and MMDSA membership in our regular support of Food Not Bombs at their weekly distribution of free food and resources \n\n\n\n\n\n\n\n\n\nLearn more about Food Not Bombs here \nLearn more about 901 Harm Reduction here
URL:https://home.memphisdsa.org/event/solidarity-food-not-bombs-picnic-support/
LOCATION:Court Square Park\, 62 N Main St\, Memphis\, TN\, 38103\, United States
CATEGORIES:Mutual Aid
END:VEVENT
BEGIN:VEVENT
DTSTART;TZID=America/Chicago:20250505T183000
DTEND;TZID=America/Chicago:20250505T203000
DTSTAMP:20260424T072028
CREATED:20250405T155523Z
LAST-MODIFIED:20250429T165243Z
UID:450-1746469800-1746477000@home.memphisdsa.org
SUMMARY:Electoral and Policy Committee Meeting
DESCRIPTION:Interested in the role electoral organizing can play in our fight for the working class? Let’s build a vision built from investigating successful leftist political movements as we build dual power for the people in the Midsouth
URL:https://home.memphisdsa.org/event/electoral-and-policy-committee/
LOCATION:Contact memphisdsa@gmail.com if you want to attend and need this event’s address/location information.\, Memphis\, TN\, 38111\, United States
CATEGORIES:Electoral & Policy
ATTACH;FMTTYPE=image/png:https://home.memphisdsa.org/wp-content/uploads/2025/04/Screen-Shot-2025-04-29-at-10.52.40-AM.png
END:VEVENT
BEGIN:VEVENT
DTSTART;TZID=America/Chicago:20250507T180000
DTEND;TZID=America/Chicago:20250507T200000
DTSTAMP:20260424T072028
CREATED:20250429T170848Z
LAST-MODIFIED:20250429T171125Z
UID:481-1746640800-1746648000@home.memphisdsa.org
SUMMARY:Mutual Aid Committee Meeting
DESCRIPTION:Open to members and interested/supportive guests – this committee supports mutual aid efforts\, studies mutual aid approaches\, and builds our own original mutual aid projects
URL:https://home.memphisdsa.org/event/mutual-aid-committee-meeting-4/
LOCATION:Contact memphisdsa@gmail.com if you want to attend and need this event’s address/location information.\, Memphis\, TN\, 38111\, United States
CATEGORIES:Mutual Aid
ATTACH;FMTTYPE=image/png:https://home.memphisdsa.org/wp-content/uploads/2021/07/CircularLogo-Transparent-e1748382636843.png
END:VEVENT
BEGIN:VEVENT
DTSTART;TZID=America/Chicago:20250508T200000
DTEND;TZID=America/Chicago:20250508T210000
DTSTAMP:20260424T072028
CREATED:20250404T200622Z
LAST-MODIFIED:20250428T140339Z
UID:428-1746734400-1746738000@home.memphisdsa.org
SUMMARY:📚 Bigger Than Bernie - Chapter Two Discussion
DESCRIPTION:We will learn from recent socialist campaigns for elected office in the US to shape the strategy and infrastructure for our electoral politics work. \nThis session will meet virtually to discuss Chapter Two of Bigger Than Bernie by Meagan Day and Micah Uetricht. We will meet via Zoom.
URL:https://home.memphisdsa.org/event/%f0%9f%93%9a-bigger-than-bernie-chapter-2-discussion/
LOCATION:TN
CATEGORIES:Electoral & Policy
ATTACH;FMTTYPE=image/png:https://home.memphisdsa.org/wp-content/uploads/2025/04/Laptop-and-rose-bester.png
END:VEVENT
BEGIN:VEVENT
DTSTART;TZID=America/Chicago:20250510T133000
DTEND;TZID=America/Chicago:20250510T153000
DTSTAMP:20260424T072028
CREATED:20250429T164410Z
LAST-MODIFIED:20250429T164436Z
UID:467-1746883800-1746891000@home.memphisdsa.org
SUMMARY:Solidarity: Food Not Bombs Picnic Support
DESCRIPTION:Join the Mutual Aid Committee and MMDSA membership in our regular support of Food Not Bombs at their weekly distribution of free food and resources \n\n\n\n\n\n\n\n\n\nLearn more about Food Not Bombs here \nLearn more about 901 Harm Reduction here
URL:https://home.memphisdsa.org/event/solidarity-food-not-bombs-picnic-support-2/
LOCATION:Court Square Park\, 62 N Main St\, Memphis\, TN\, 38103\, United States
CATEGORIES:Mutual Aid
END:VEVENT
BEGIN:VEVENT
DTSTART;TZID=America/Chicago:20250512T180000
DTEND;TZID=America/Chicago:20250512T200000
DTSTAMP:20260424T072028
CREATED:20250429T170125Z
LAST-MODIFIED:20250429T171130Z
UID:476-1747072800-1747080000@home.memphisdsa.org
SUMMARY:Workplace Organizing Committee Meeting
DESCRIPTION:Open to members and interested/supportive guests\, this committee meets biweekly to organize around increasing worker control over their jobs and lives. \nWe work alongside the broader DSA chapter to organize for power. 
URL:https://home.memphisdsa.org/event/workplace-organizing-committee-meeting-17/
LOCATION:Contact memphisdsa@gmail.com if you want to attend and need this event’s address/location information.\, Memphis\, TN\, 38111\, United States
CATEGORIES:Mutual Aid
ATTACH;FMTTYPE=image/png:https://home.memphisdsa.org/wp-content/uploads/2025/04/Screen-Shot-2025-04-29-at-12.00.23-PM.png
END:VEVENT
BEGIN:VEVENT
DTSTART;TZID=America/Chicago:20250515T183000
DTEND;TZID=America/Chicago:20250515T193000
DTSTAMP:20260424T072028
CREATED:20250512T170422Z
LAST-MODIFIED:20250512T170422Z
UID:504-1747333800-1747337400@home.memphisdsa.org
SUMMARY:Weekly Communications Committee Meeting
DESCRIPTION:Join the Comms team for weekly updates\, discussions of how communications supports our committee efforts\, and take on some communications task! \nMeeting is virtual – contact mmdsa@gmail.com for the Google Meet link
URL:https://home.memphisdsa.org/event/weekly-communications-committee-meeting/
LOCATION:TN
CATEGORIES:Communications
END:VEVENT
BEGIN:VEVENT
DTSTART;TZID=America/Chicago:20250515T200000
DTEND;TZID=America/Chicago:20250515T210000
DTSTAMP:20260424T072028
CREATED:20250429T160759Z
LAST-MODIFIED:20250429T164440Z
UID:454-1747339200-1747342800@home.memphisdsa.org
SUMMARY:📚 Bigger Than Bernie – Chapter Three Discussion
DESCRIPTION:We will learn from recent socialist campaigns for elected office in the US to shape the strategy and infrastructure for our electoral politics work. \nThis session will meet virtually to discuss Chapter Three of Bigger Than Bernie by Meagan Day and Micah Uetricht. We will meet via Zoom.
URL:https://home.memphisdsa.org/event/%f0%9f%93%9a-bigger-than-bernie-chapter-three-discussion/
LOCATION:TN
CATEGORIES:Electoral & Policy
ATTACH;FMTTYPE=image/png:https://home.memphisdsa.org/wp-content/uploads/2025/04/Laptop-and-rose-bester.png
END:VEVENT
BEGIN:VEVENT
DTSTART;TZID=America/Chicago:20250517T110000
DTEND;TZID=America/Chicago:20250517T130000
DTSTAMP:20260424T072028
CREATED:20250511T184956Z
LAST-MODIFIED:20250511T184956Z
UID:501-1747479600-1747486800@home.memphisdsa.org
SUMMARY:Organizing the Organizers: Trainings from National DSA
DESCRIPTION:  \nSign up for the session using THIS LINK \nOur Regional Organizer from DSA National is coming to Memphis on Saturday\, May 17 at RP Tracks to provide us with two vital trainings that will push our organizing skills to the next level. You may attend either or both of these sessions to help build your organizing skills: \nHow to Canvass: 11 a.m. to 12:00 p.m.\nWant to learn how to speak from the people instead of for them? Want to build your political organizing skillset? Then you want to learn how to canvass! Having a cohort of trained canvassers will make our efforts and alliances in Memphis that much stronger. \nIntro to Powermapping: 12:00 p.m. – 1:00 p.m.\nTurning ideas into actions\, this organizing skill helps you understand the landscape of your activism. Whether it’s your workplace or the whole city of Memphis\, learn how to map out your networks and figure out who to focus on to move your organizing efforts forward! \n  \n 
URL:https://home.memphisdsa.org/event/organizing-the-organizers-trainings-from-national-dsa/
LOCATION:RP Tracks\, 3547 Walker Ave\, Memphis\, 38111\, United States
CATEGORIES:General Meeting
ATTACH;FMTTYPE=image/png:https://home.memphisdsa.org/wp-content/uploads/2025/05/Screen-Shot-2025-05-08-at-5.39.41-PM.png
END:VEVENT
BEGIN:VEVENT
DTSTART;TZID=America/Chicago:20250517T133000
DTEND;TZID=America/Chicago:20250517T153000
DTSTAMP:20260424T072028
CREATED:20250429T164729Z
LAST-MODIFIED:20250429T165334Z
UID:469-1747488600-1747495800@home.memphisdsa.org
SUMMARY:Solidarity: Food Not Bombs Picnic Support
DESCRIPTION:Join the Mutual Aid Committee and MMDSA membership in our regular support of Food Not Bombs at their weekly distribution of free food and resources \n\n\n\n\n\n\n\n\n\nLearn more about Food Not Bombs here \nLearn more about 901 Harm Reduction here
URL:https://home.memphisdsa.org/event/solidarity-food-not-bombs-picnic-support-3/
LOCATION:Court Square Park\, 62 N Main St\, Memphis\, TN\, 38103\, United States
CATEGORIES:Mutual Aid
END:VEVENT
BEGIN:VEVENT
DTSTART;TZID=America/Chicago:20250517T140000
DTEND;TZID=America/Chicago:20250517T190000
DTSTAMP:20260424T072028
CREATED:20250510T021711Z
LAST-MODIFIED:20250511T135452Z
UID:493-1747490400-1747508400@home.memphisdsa.org
SUMMARY:Trans-Fest '25 // MMDSA Action
DESCRIPTION:Help with tabling and other supports at Trans-Fest ’25 on Saturday\, May 17\, with shifts available between 2 and 7 p.m. Our chapter is informing about local gender-affirming medical care\, launching our trans identity affirming clothing closet\, and promoting the Memphis Midsouth DSA. Sign up for a shift to support! \nRSVP to Sign Up for a Shift Here!
URL:https://home.memphisdsa.org/event/trans-fest-25-mmdsa-action/
LOCATION:Wisacre Brewing “OG”\, 2783 Broad Ave\, Memphis\, TN\, 38119\, United States
CATEGORIES:Mutual Aid
END:VEVENT
BEGIN:VEVENT
DTSTART;TZID=America/Chicago:20250521T180000
DTEND;TZID=America/Chicago:20250521T200000
DTSTAMP:20260424T072028
CREATED:20250429T171016Z
LAST-MODIFIED:20250429T171135Z
UID:483-1747850400-1747857600@home.memphisdsa.org
SUMMARY:Mutual Aid Committee Meeting
DESCRIPTION:Open to members and interested/supportive guests – this committee supports mutual aid efforts\, studies mutual aid approaches\, and builds our own original mutual aid projects
URL:https://home.memphisdsa.org/event/mutual-aid-committee-meeting-5/
LOCATION:Contact memphisdsa@gmail.com if you want to attend and need this event’s address/location information.\, Memphis\, TN\, 38111\, United States
CATEGORIES:Mutual Aid
ATTACH;FMTTYPE=image/png:https://home.memphisdsa.org/wp-content/uploads/2021/07/CircularLogo-Transparent-e1748382636843.png
END:VEVENT
BEGIN:VEVENT
DTSTART;TZID=America/Chicago:20250522T183000
DTEND;TZID=America/Chicago:20250522T193000
DTSTAMP:20260424T072028
CREATED:20250521T002809Z
LAST-MODIFIED:20250527T223438Z
UID:509-1747938600-1747942200@home.memphisdsa.org
SUMMARY:Comms Committee Work Along (Virtual)
DESCRIPTION:Join the MMDSA Communications Commitee as we meet for our weekly meeting and collaborative work time. We will check in with requests from the chapter for communications support and work collaboratively on producing what is needed to spread the word about our work! \nMeeting is virtual – please contact the chapter at memphisdsa@gmail.com for the link.
URL:https://home.memphisdsa.org/event/communications-committee-weekly-meeting-work-along/
LOCATION:TN
CATEGORIES:Communications
END:VEVENT
BEGIN:VEVENT
DTSTART;TZID=America/Chicago:20250522T200000
DTEND;TZID=America/Chicago:20250522T210000
DTSTAMP:20260424T072028
CREATED:20250429T161201Z
LAST-MODIFIED:20250527T223430Z
UID:456-1747944000-1747947600@home.memphisdsa.org
SUMMARY:📚 Bigger Than Bernie – Chapter Four Discussion (Virtual)
DESCRIPTION:We will learn from recent socialist campaigns for elected office in the US to shape the strategy and infrastructure for our electoral and policy work. \nThis session will meet virtually to discuss Chapter Two of Bigger Than Bernie by Meagan Day and Micah Uetricht. We will meet via Zoom.
URL:https://home.memphisdsa.org/event/%f0%9f%93%9a-bigger-than-bernie-chapter-four-discussion/
LOCATION:TN
CATEGORIES:Electoral & Policy
ATTACH;FMTTYPE=image/png:https://home.memphisdsa.org/wp-content/uploads/2025/04/Laptop-and-rose-bester.png
END:VEVENT
BEGIN:VEVENT
DTSTART;TZID=America/Chicago:20250524T133000
DTEND;TZID=America/Chicago:20250524T153000
DTSTAMP:20260424T072028
CREATED:20250429T165039Z
LAST-MODIFIED:20250429T165326Z
UID:472-1748093400-1748100600@home.memphisdsa.org
SUMMARY:Solidarity: Food Not Bombs Picnic Support
DESCRIPTION:Join the Mutual Aid Committee and MMDSA membership in our regular support of Food Not Bombs at their weekly distribution of free food and resources \n\n\n\n\n\n\n\n\n\nLearn more about Food Not Bombs here \nLearn more about 901 Harm Reduction here
URL:https://home.memphisdsa.org/event/solidarity-food-not-bombs-picnic-support-4/
LOCATION:Court Square Park\, 62 N Main St\, Memphis\, TN\, 38103\, United States
CATEGORIES:Mutual Aid
END:VEVENT
BEGIN:VEVENT
DTSTART;TZID=America/Chicago:20250526T180000
DTEND;TZID=America/Chicago:20250526T200000
DTSTAMP:20260424T072028
CREATED:20250429T170617Z
LAST-MODIFIED:20250429T171138Z
UID:479-1748282400-1748289600@home.memphisdsa.org
SUMMARY:Workplace Organizing Committee Meeting
DESCRIPTION:Open to members and interested/supportive guests\, this committee meets biweekly to organize around increasing worker control over their jobs and lives. \nWe work alongside the broader MMDSA chapter to organize for power. 
URL:https://home.memphisdsa.org/event/workplace-organizing-committee-meeting-18/
LOCATION:Contact memphisdsa@gmail.com if you want to attend and need this event’s address/location information.\, Memphis\, TN\, 38111\, United States
CATEGORIES:Mutual Aid
ATTACH;FMTTYPE=image/png:https://home.memphisdsa.org/wp-content/uploads/2025/04/Screen-Shot-2025-04-29-at-12.00.23-PM.png
END:VEVENT
BEGIN:VEVENT
DTSTART;TZID=America/Chicago:20250528T180000
DTEND;TZID=America/Chicago:20250528T190000
DTSTAMP:20260424T072028
CREATED:20250524T210721Z
LAST-MODIFIED:20250524T210721Z
UID:524-1748455200-1748458800@home.memphisdsa.org
SUMMARY:Voting Kickoff for DSA National Convention
DESCRIPTION:Hosted by the MMDSA Nominations Committee\, this discussion will: \n\nintroduce the nominees for our delegates\noverview voting procedures\nreview proposals that our delegates will be voting on at the Convention 
URL:https://home.memphisdsa.org/event/voting-kickoff-for-dsa-national-convention/
LOCATION:RP Tracks\, 3547 Walker Ave\, Memphis\, 38111\, United States
END:VEVENT
BEGIN:VEVENT
DTSTART;TZID=America/Chicago:20250529T183000
DTEND;TZID=America/Chicago:20250529T193000
DTSTAMP:20260424T072028
CREATED:20250521T035859Z
LAST-MODIFIED:20250527T223447Z
UID:513-1748543400-1748547000@home.memphisdsa.org
SUMMARY:Communications Training from DSA National (Virtual)
DESCRIPTION:Want to learn more about what it takes to be a successful socialist messager? MMDSA National will be providing communications training tailored to our specific needs in Memphis\, including how to run our comms approach in a red state and building connections to local media. \nMeeting is virtual – please contact the chapter at memphisdsa@gmail.com for the link.
URL:https://home.memphisdsa.org/event/comms-committee-weekly-meeting-work-along/
LOCATION:TN
CATEGORIES:Communications
END:VEVENT
BEGIN:VEVENT
DTSTART;TZID=America/Chicago:20250529T200000
DTEND;TZID=America/Chicago:20250529T210000
DTSTAMP:20260424T072028
CREATED:20250429T161406Z
LAST-MODIFIED:20250527T223456Z
UID:458-1748548800-1748552400@home.memphisdsa.org
SUMMARY:📚 Bigger Than Bernie – Chapter Five Discussion (Virtual)
DESCRIPTION:We will learn from recent socialist campaigns for elected office in the US to shape the strategy and infrastructure for our electoral and policy work. \nThis session will meet virtually to discuss Chapter Two of Bigger Than Bernie by Meagan Day and Micah Uetricht. We will meet via Zoom.
URL:https://home.memphisdsa.org/event/%f0%9f%93%9a-bigger-than-bernie-chapter-five-discussion/
LOCATION:TN
CATEGORIES:Electoral & Policy
ATTACH;FMTTYPE=image/png:https://home.memphisdsa.org/wp-content/uploads/2025/04/Laptop-and-rose-bester.png
END:VEVENT
BEGIN:VEVENT
DTSTART;TZID=America/Chicago:20250531T133000
DTEND;TZID=America/Chicago:20250531T153000
DTSTAMP:20260424T072028
CREATED:20250429T165142Z
LAST-MODIFIED:20250529T215306Z
UID:474-1748698200-1748705400@home.memphisdsa.org
SUMMARY:Solidarity: Food Not Bombs Picnic Support *New Location*
DESCRIPTION:Join the Mutual Aid Committee and MMDSA membership in our regular support of Food Not Bombs at their weekly distribution of free food and resources \n\n\n\n\n\n\n\n\n\nLearn more about Food Not Bombs here \nLearn more about 901 Harm Reduction here
URL:https://home.memphisdsa.org/event/solidarity-food-not-bombs-picnic-support-5/
LOCATION:Contact memphisdsa@gmail.com if you want to attend and need this event’s address/location information.\, Memphis\, TN\, 38111\, United States
CATEGORIES:Mutual Aid
END:VEVENT
END:VCALENDAR