BEGIN:VCALENDAR
VERSION:2.0
PRODID:-//Memphis-Midsouth - ECPv6.15.17.1//NONSGML v1.0//EN
CALSCALE:GREGORIAN
METHOD:PUBLISH
X-WR-CALNAME:Memphis-Midsouth
X-ORIGINAL-URL:https://home.memphisdsa.org
X-WR-CALDESC:Events for Memphis-Midsouth
REFRESH-INTERVAL;VALUE=DURATION:PT1H
X-Robots-Tag:noindex
X-PUBLISHED-TTL:PT1H
BEGIN:VTIMEZONE
TZID:America/Chicago
BEGIN:DAYLIGHT
TZOFFSETFROM:-0600
TZOFFSETTO:-0500
TZNAME:CDT
DTSTART:20230312T080000
END:DAYLIGHT
BEGIN:STANDARD
TZOFFSETFROM:-0500
TZOFFSETTO:-0600
TZNAME:CST
DTSTART:20231105T070000
END:STANDARD
BEGIN:DAYLIGHT
TZOFFSETFROM:-0600
TZOFFSETTO:-0500
TZNAME:CDT
DTSTART:20240310T080000
END:DAYLIGHT
BEGIN:STANDARD
TZOFFSETFROM:-0500
TZOFFSETTO:-0600
TZNAME:CST
DTSTART:20241103T070000
END:STANDARD
BEGIN:DAYLIGHT
TZOFFSETFROM:-0600
TZOFFSETTO:-0500
TZNAME:CDT
DTSTART:20250309T080000
END:DAYLIGHT
BEGIN:STANDARD
TZOFFSETFROM:-0500
TZOFFSETTO:-0600
TZNAME:CST
DTSTART:20251102T070000
END:STANDARD
END:VTIMEZONE
BEGIN:VEVENT
DTSTART;TZID=America/Chicago:20240912T190000
DTEND;TZID=America/Chicago:20240912T210000
DTSTAMP:20260423T231449
CREATED:20240827T175329Z
LAST-MODIFIED:20240827T175329Z
UID:229-1726167600-1726174800@home.memphisdsa.org
SUMMARY:Legislative Action Committee Meeting
DESCRIPTION:Our Legislative Action Committee aims to: \n\nIdentify structural barriers to participating in local government;\nDevelop strategies to increase political engagement and participation among working people; and\nCollaborate with community stakeholders to foster collective action towards a more participatory and responsive local government.\n\nFor further details on the committee’s mandate\, please refer to the motion passed during our April general meeting.
URL:https://home.memphisdsa.org/event/legislative-action-committee-meeting-6/
LOCATION:Contact memphisdsa@gmail.com if you want to attend and need this event’s address/location information.\, Memphis\, TN\, 38111\, United States
ATTACH;FMTTYPE=image/png:https://home.memphisdsa.org/wp-content/uploads/2021/07/CircularLogo-Transparent-e1748382636843.png
END:VEVENT
BEGIN:VEVENT
DTSTART;TZID=America/Chicago:20240902T180000
DTEND;TZID=America/Chicago:20240902T200000
DTSTAMP:20260423T231449
CREATED:20240813T184949Z
LAST-MODIFIED:20240813T184949Z
UID:222-1725300000-1725307200@home.memphisdsa.org
SUMMARY:Workplace Organizing Committee Meeting
DESCRIPTION:The purpose of this committee broadly is to support efforts at unionization\, labor solidarity\, and worker cooperative formation in west Tennessee. Our Steering Committee strongly encourages attendance to help shape this work in its early stages. \nMembers and interested/supportive guests are more than welcome to attend.
URL:https://home.memphisdsa.org/event/workplace-organizing-committee-meeting-9/
LOCATION:Contact memphisdsa@gmail.com if you want to attend and need this event’s address/location information.\, Memphis\, TN\, 38111\, United States
ATTACH;FMTTYPE=image/png:https://home.memphisdsa.org/wp-content/uploads/2021/07/CircularLogo-Transparent-e1748382636843.png
END:VEVENT
BEGIN:VEVENT
DTSTART;TZID=America/Chicago:20240822T190000
DTEND;TZID=America/Chicago:20240822T210000
DTSTAMP:20260423T231449
CREATED:20240815T193445Z
LAST-MODIFIED:20240819T193037Z
UID:226-1724353200-1724360400@home.memphisdsa.org
SUMMARY:Legislative Action Committee Meeting
DESCRIPTION:Our Legislative Action Committee aims to: \n\nIdentify structural barriers to participating in local government;\nDevelop strategies to increase political engagement and participation among working people; and\nCollaborate with community stakeholders to foster collective action towards a more participatory and responsive local government.\n\nFor further details on the committee’s mandate\, please refer to the motion passed during our April general meeting.
URL:https://home.memphisdsa.org/event/legislative-action-committee-meeting-5/
LOCATION:Contact memphisdsa@gmail.com if you want to attend and need this event’s address/location information.\, Memphis\, TN\, 38111\, United States
ATTACH;FMTTYPE=image/png:https://home.memphisdsa.org/wp-content/uploads/2021/07/cropped-DSALogo2-3-v3.png
END:VEVENT
BEGIN:VEVENT
DTSTART;TZID=America/Chicago:20240819T180000
DTEND;TZID=America/Chicago:20240819T200000
DTSTAMP:20260423T231449
CREATED:20240813T184655Z
LAST-MODIFIED:20240813T185019Z
UID:219-1724090400-1724097600@home.memphisdsa.org
SUMMARY:Workplace Organizing Committee Meeting
DESCRIPTION:The purpose of this committee broadly is to support efforts at unionization\, labor solidarity\, and worker cooperative formation in west Tennessee. Our Steering Committee strongly encourages attendance to help shape this work in its early stages. \nMembers and interested/supportive guests are more than welcome to attend.
URL:https://home.memphisdsa.org/event/workplace-organizing-committee-meeting-8/
LOCATION:Contact memphisdsa@gmail.com if you want to attend and need this event’s address/location information.\, Memphis\, TN\, 38111\, United States
ATTACH;FMTTYPE=image/png:https://home.memphisdsa.org/wp-content/uploads/2021/07/CircularLogo-Transparent-e1748382636843.png
END:VEVENT
BEGIN:VEVENT
DTSTART;TZID=America/Chicago:20240805T180000
DTEND;TZID=America/Chicago:20240805T200000
DTSTAMP:20260423T231449
CREATED:20240720T182925Z
LAST-MODIFIED:20240720T182925Z
UID:216-1722880800-1722888000@home.memphisdsa.org
SUMMARY:Workplace Organizing Committee Meeting
DESCRIPTION:The purpose of this committee broadly is to support efforts at unionization\, labor solidarity\, and worker cooperative formation in west Tennessee. Our Steering Committee strongly encourages attendance to help shape this work in its early stages. \nMembers and interested/supportive guests are more than welcome to attend.
URL:https://home.memphisdsa.org/event/workplace-organizing-committee-meeting-7/
LOCATION:Contact memphisdsa@gmail.com if you want to attend and need this event’s address/location information.\, Memphis\, TN\, 38111\, United States
ATTACH;FMTTYPE=image/png:https://home.memphisdsa.org/wp-content/uploads/2021/07/CircularLogo-Transparent-e1748382636843.png
END:VEVENT
BEGIN:VEVENT
DTSTART;TZID=America/Chicago:20240725T190000
DTEND;TZID=America/Chicago:20240725T210000
DTSTAMP:20260423T231449
CREATED:20240715T190351Z
LAST-MODIFIED:20240715T190351Z
UID:212-1721934000-1721941200@home.memphisdsa.org
SUMMARY:Legislative Action Committee Meeting
DESCRIPTION:Our Legislative Action Committee aims to: \n\nIdentify structural barriers to participating in local government;\nDevelop strategies to increase political engagement and participation among working people; and\nCollaborate with community stakeholders to foster collective action towards a more participatory and responsive local government.\n\nFor further details on the committee’s mandate\, please refer to the motion passed during our April general meeting.
URL:https://home.memphisdsa.org/event/legislative-action-committee-meeting-4/
LOCATION:Contact memphisdsa@gmail.com if you want to attend and need this event’s address/location information.\, Memphis\, TN\, 38111\, United States
ATTACH;FMTTYPE=image/png:https://home.memphisdsa.org/wp-content/uploads/2021/07/cropped-DSALogo2-3-v3.png
END:VEVENT
BEGIN:VEVENT
DTSTART;TZID=America/Chicago:20240722T180000
DTEND;TZID=America/Chicago:20240722T200000
DTSTAMP:20260423T231449
CREATED:20240720T182729Z
LAST-MODIFIED:20240720T183014Z
UID:214-1721671200-1721678400@home.memphisdsa.org
SUMMARY:Workplace Organizing Committee Meeting
DESCRIPTION:The purpose of this committee broadly is to support efforts at unionization\, labor solidarity\, and worker cooperative formation in west Tennessee. Our Steering Committee strongly encourages attendance to help shape this work in its early stages. \nMembers and interested/supportive guests are more than welcome to attend.
URL:https://home.memphisdsa.org/event/workplace-organizing-committee-meeting-6/
LOCATION:Contact memphisdsa@gmail.com if you want to attend and need this event’s address/location information.\, Memphis\, TN\, 38111\, United States
ATTACH;FMTTYPE=image/png:https://home.memphisdsa.org/wp-content/uploads/2021/07/CircularLogo-Transparent-e1748382636843.png
END:VEVENT
BEGIN:VEVENT
DTSTART;TZID=America/Chicago:20240711T190000
DTEND;TZID=America/Chicago:20240711T210000
DTSTAMP:20260423T231449
CREATED:20240701T195922Z
LAST-MODIFIED:20240701T195922Z
UID:209-1720724400-1720731600@home.memphisdsa.org
SUMMARY:Legislative Action Committee Meeting
DESCRIPTION:Our Legislative Action Committee aims to: \n\nIdentify structural barriers to participating in local government;\nDevelop strategies to increase political engagement and participation among working people; and\nCollaborate with community stakeholders to foster collective action towards a more participatory and responsive local government.\n\nFor further details on the committee’s mandate\, please refer to the motion passed during our April general meeting.
URL:https://home.memphisdsa.org/event/legislative-action-committee-meeting-3/
LOCATION:Contact memphisdsa@gmail.com if you want to attend and need this event’s address/location information.\, Memphis\, TN\, 38111\, United States
END:VEVENT
BEGIN:VEVENT
DTSTART;TZID=America/Chicago:20240708T180000
DTEND;TZID=America/Chicago:20240708T200000
DTSTAMP:20260423T231449
CREATED:20240611T185042Z
LAST-MODIFIED:20240611T185042Z
UID:189-1720461600-1720468800@home.memphisdsa.org
SUMMARY:Workplace Organizing Committee Meeting
DESCRIPTION:The purpose of this committee broadly is to support efforts at unionization\, labor solidarity\, and worker cooperative formation in west Tennessee. Our Steering Committee strongly encourages attendance to help shape this work in its early stages. \nMembers and interested/supportive guests are more than welcome to attend.
URL:https://home.memphisdsa.org/event/workplace-organizing-committee-meeting-5/
LOCATION:Contact memphisdsa@gmail.com if you want to attend and need this event’s address/location information.\, Memphis\, TN\, 38111\, United States
ATTACH;FMTTYPE=image/png:https://home.memphisdsa.org/wp-content/uploads/2021/07/cropped-DSALogo2-3-v3.png
END:VEVENT
BEGIN:VEVENT
DTSTART;TZID=America/Chicago:20240625T150000
DTEND;TZID=America/Chicago:20240625T170000
DTSTAMP:20260423T231449
CREATED:20240623T172307Z
LAST-MODIFIED:20240623T172335Z
UID:200-1719327600-1719334800@home.memphisdsa.org
SUMMARY:Rally for Palestine at Memphis City Hall
DESCRIPTION:Memphis Voices for Palestine is holding a rally at 3pm on Tuesday at City Hall in Memphis (125 N. Main St.). Our Executive Committee encourages attendance to help stop the genocide of the Palestinian people. \n 
URL:https://home.memphisdsa.org/event/200/
ATTACH;FMTTYPE=image/jpeg:https://home.memphisdsa.org/wp-content/uploads/2024/06/signal-2024-06-20-192147.jpeg
END:VEVENT
BEGIN:VEVENT
DTSTART;TZID=America/Chicago:20240624T180000
DTEND;TZID=America/Chicago:20240624T200000
DTSTAMP:20260423T231449
CREATED:20240611T184943Z
LAST-MODIFIED:20240611T184943Z
UID:186-1719252000-1719259200@home.memphisdsa.org
SUMMARY:Workplace Organizing Committee Meeting
DESCRIPTION:The purpose of this committee broadly is to support efforts at unionization\, labor solidarity\, and worker cooperative formation in west Tennessee. Our Steering Committee strongly encourages attendance to help shape this work in its early stages. \nMembers and interested/supportive guests are more than welcome to attend.
URL:https://home.memphisdsa.org/event/workplace-organizing-committee-meeting-4/
LOCATION:Contact memphisdsa@gmail.com if you want to attend and need this event’s address/location information.\, Memphis\, TN\, 38111\, United States
ATTACH;FMTTYPE=image/png:https://home.memphisdsa.org/wp-content/uploads/2021/07/cropped-DSALogo2-3-v3.png
END:VEVENT
BEGIN:VEVENT
DTSTART;TZID=America/Chicago:20240620T190000
DTEND;TZID=America/Chicago:20240620T210000
DTSTAMP:20260423T231449
CREATED:20240614T181812Z
LAST-MODIFIED:20240614T181835Z
UID:192-1718910000-1718917200@home.memphisdsa.org
SUMMARY:Legislative Action Committee Meeting
DESCRIPTION:Our Legislative Action Committee aims to: \n\nIdentify structural barriers to participating in local government;\nDevelop strategies to increase political engagement and participation among working people; and\nCollaborate with community stakeholders to foster collective action towards a more participatory and responsive local government.\n\nFor further details on the committee’s mandate\, please refer to the motion passed during our April general meeting.
URL:https://home.memphisdsa.org/event/legislative-action-committee-meeting-2/
LOCATION:Contact memphisdsa@gmail.com if you want to attend and need this event’s address/location information.\, Memphis\, TN\, 38111\, United States
ATTACH;FMTTYPE=image/png:https://home.memphisdsa.org/wp-content/uploads/2021/07/cropped-DSALogo2-3-v3.png
END:VEVENT
BEGIN:VEVENT
DTSTART;TZID=America/Chicago:20240611T180000
DTEND;TZID=America/Chicago:20240611T200000
DTSTAMP:20260423T231449
CREATED:20240330T172204Z
LAST-MODIFIED:20240330T172204Z
UID:140-1718128800-1718136000@home.memphisdsa.org
SUMMARY:Memphis-Midsouth DSA General Meeting
DESCRIPTION:General Meetings for our chapter bi-monthly on the second Tuesday of each month during 2024. These meetings in particular are for voting on motions and resolutions\, electing new officers\, reports from committees\, and other decisive business. \nMembers and non-members are both welcome to attend\, but only members can vote.
URL:https://home.memphisdsa.org/event/memphis-midsouth-dsa-general-meeting-2/
LOCATION:Contact memphisdsa@gmail.com if you want to attend and need this event’s address/location information.\, Memphis\, TN\, 38111\, United States
ATTACH;FMTTYPE=image/png:https://home.memphisdsa.org/wp-content/uploads/2021/07/cropped-DSALogo2-3-v3.png
END:VEVENT
BEGIN:VEVENT
DTSTART;TZID=America/Chicago:20240610T180000
DTEND;TZID=America/Chicago:20240610T200000
DTSTAMP:20260423T231449
CREATED:20240509T192303Z
LAST-MODIFIED:20240511T202130Z
UID:182-1718042400-1718049600@home.memphisdsa.org
SUMMARY:Workplace Organizing Committee Meeting
DESCRIPTION:The purpose of this committee broadly is to support efforts at unionization and worker cooperative formation in the Midsouth region. Our Steering Committee strongly encourages attendance to help shape this work in its early stages. \nMembers and interested/supportive guests are more than welcome to attend.
URL:https://home.memphisdsa.org/event/workplace-organizing-committee-meeting-3/
LOCATION:Contact memphisdsa@gmail.com if you want to attend and need this event’s address/location information.\, Memphis\, TN\, 38111\, United States
ATTACH;FMTTYPE=image/png:https://home.memphisdsa.org/wp-content/uploads/2021/07/cropped-DSALogo2-3-v3.png
END:VEVENT
BEGIN:VEVENT
DTSTART;TZID=America/Chicago:20240509T190000
DTEND;TZID=America/Chicago:20240509T210000
DTSTAMP:20260423T231449
CREATED:20240426T024548Z
LAST-MODIFIED:20240426T024548Z
UID:179-1715281200-1715288400@home.memphisdsa.org
SUMMARY:Legislative Action Committee Meeting
DESCRIPTION:Our Legislative Action Committee aims to: \n\nIdentify structural barriers to participating in local government;\nDevelop strategies to increase political engagement and participation among working people; and\nCollaborate with community stakeholders to foster collective action towards a more participatory and responsive local government.\n\nFor further details on the committee’s mandate\, please refer to the motion passed during our April general meeting.
URL:https://home.memphisdsa.org/event/legislative-action-committee-meeting/
LOCATION:Contact memphisdsa@gmail.com if you want to attend and need this event’s address/location information.\, Memphis\, TN\, 38111\, United States
ATTACH;FMTTYPE=image/png:https://home.memphisdsa.org/wp-content/uploads/2021/07/cropped-DSALogo2-3-v3.png
END:VEVENT
BEGIN:VEVENT
DTSTART;TZID=America/Chicago:20240506T180000
DTEND;TZID=America/Chicago:20240506T200000
DTSTAMP:20260423T231449
CREATED:20240418T150459Z
LAST-MODIFIED:20240420T143515Z
UID:160-1715018400-1715025600@home.memphisdsa.org
SUMMARY:Workplace Organizing Committee Meeting
DESCRIPTION:The purpose of this committee broadly is to support efforts at unionization and worker cooperative formation in the Midsouth region. Our Steering Committee strongly encourages attendance to help shape this work in its early stages.
URL:https://home.memphisdsa.org/event/workplace-organizing-committee-meeting-2/
LOCATION:Contact memphisdsa@gmail.com if you want to attend and need this event’s address/location information.\, Memphis\, TN\, 38111\, United States
ATTACH;FMTTYPE=image/png:https://home.memphisdsa.org/wp-content/uploads/2021/07/cropped-DSALogo2-3-v3.png
END:VEVENT
BEGIN:VEVENT
DTSTART;TZID=America/Chicago:20240425T190000
DTEND;TZID=America/Chicago:20240425T210000
DTSTAMP:20260423T231449
CREATED:20240420T143325Z
LAST-MODIFIED:20240420T143325Z
UID:176-1714071600-1714078800@home.memphisdsa.org
SUMMARY:First Legislative Action Committee Meeting
DESCRIPTION:At our general meeting earlier this month\, our chapter voted to form this committee to: \n\nIdentify structural barriers to participating in local government;\nDevelop strategies to increase political engagement and participation among working people; and\nCollaborate with community stakeholders to foster collective action towards a more participatory and responsive local government.\n\nFor further details on the committee’s mandate\, please refer to the motion passed during our general meeting.
URL:https://home.memphisdsa.org/event/first-legislative-action-committee-meeting/
LOCATION:Contact memphisdsa@gmail.com if you want to attend and need this event’s address/location information.\, Memphis\, TN\, 38111\, United States
ATTACH;FMTTYPE=image/png:https://home.memphisdsa.org/wp-content/uploads/2021/07/cropped-DSALogo2-3-v3.png
END:VEVENT
BEGIN:VEVENT
DTSTART;TZID=America/Chicago:20240415T180000
DTEND;TZID=America/Chicago:20240415T200000
DTSTAMP:20260423T231449
CREATED:20240413T220522Z
LAST-MODIFIED:20240413T220522Z
UID:149-1713204000-1713211200@home.memphisdsa.org
SUMMARY:Workplace Organizing Committee Meeting
DESCRIPTION:The purpose of this committee broadly is to support efforts at unionization and worker cooperative formation in the Midsouth region. Our Steering Committee strongly encourages attendance to help shape this work in its early stages.
URL:https://home.memphisdsa.org/event/workplace-organizing-committee-meeting/
LOCATION:Contact memphisdsa@gmail.com if you want to attend and need this event’s address/location information.\, Memphis\, TN\, 38111\, United States
ATTACH;FMTTYPE=image/png:https://home.memphisdsa.org/wp-content/uploads/2021/07/cropped-DSALogo2-3-v3.png
END:VEVENT
BEGIN:VEVENT
DTSTART;TZID=America/Chicago:20240409T180000
DTEND;TZID=America/Chicago:20240409T200000
DTSTAMP:20260423T231449
CREATED:20240329T143523Z
LAST-MODIFIED:20240329T143523Z
UID:136-1712685600-1712692800@home.memphisdsa.org
SUMMARY:Memphis-Midsouth DSA General Meeting
DESCRIPTION:General Meetings for our chapter bi-monthly on the second Tuesday of each month during 2024. These meetings in particular are for voting on motions and resolutions\, electing new officers\, reports from committees\, and other decisive business. \nMembers and non-members are both welcome to attend\, but only members can vote.
URL:https://home.memphisdsa.org/event/memphis-midsouth-dsa-general-meeting/
LOCATION:Contact memphisdsa@gmail.com if you want to attend and need this event’s address/location information.\, Memphis\, TN\, 38111\, United States
ATTACH;FMTTYPE=image/png:https://home.memphisdsa.org/wp-content/uploads/2021/07/cropped-DSALogo2-3-v3.png
END:VEVENT
BEGIN:VEVENT
DTSTART;TZID=America/Chicago:20240331T150000
DTEND;TZID=America/Chicago:20240331T170000
DTSTAMP:20260423T231449
CREATED:20240329T142732Z
LAST-MODIFIED:20240329T142732Z
UID:129-1711897200-1711904400@home.memphisdsa.org
SUMMARY:Love and Trans Pride March
DESCRIPTION:Join Memphis-Midsouth DSA members and friends as we attend and support the Love and Trans Pride March as a part of the Transgender Day of Visibility. The event welcomes allies\, so if you want to join us in supporting this day please join us! \nSome in our contingent will be wearing DSA pins so we can be recognized. \nHere is a full description from the event page made by the march organizers: \n“Let’s make our voices heard and be visible in our joy on the Trans Day of Visibility this year! I’m hosting a march through Midtown in collaboration with Mid-South Trans Nation and OUTMemphis on Sunday\, 3/31/24.\n\n \n“We’ll gather at the corner of Cooper St and Monroe Ave — right at the Pride Progress crosswalk — then walk to OUTMemphis\, where we’ll have a few speakers and an open mic opportunity for our gender expansive community. Feel free to bring flags and signs to show your support as we walk!\n\n \n“If you can’t make it at 3pm\, you can join us at any point along the route. We expect to arrive at OUTMemphis around 4pm.”
URL:https://home.memphisdsa.org/event/love-and-trans-pride-march/
LOCATION:The intersection of Cooper and Monroe\, Memphis\, Cooper St at Monroe Avenue\, Memphis\, TN\, 38104\, United States
ATTACH;FMTTYPE=image/jpeg:https://home.memphisdsa.org/wp-content/uploads/2024/03/423248134_301539346227661_8636489588454720796_n.jpg
END:VEVENT
BEGIN:VEVENT
DTSTART;TZID=America/Chicago:20240328T190000
DTEND;TZID=America/Chicago:20240328T210000
DTSTAMP:20260423T231449
CREATED:20240319T184929Z
LAST-MODIFIED:20240319T185654Z
UID:125-1711652400-1711659600@home.memphisdsa.org
SUMMARY:Informal Meeting: Deliberate Over Memphis-Midsouth DSA's Future Efforts
DESCRIPTION:Join with members and guests to discuss resolutions proposing new organizing committees and efforts for our chapter. This is a chance you have to influence our organizing future! \nIf you need the meeting location or want to propose an additional resolution\, please email at memphisdsa@gmail.com. \nResolutions read and discussed/debated at this meeting will likely be put to a vote at our General Meeting on April 9th at 6pm. \n \nThe two proposed Organizing Committees we are currently moving forward with are: \n\nLegislation and Representation\nFocused on representation reform on a municipal and state level\, efforts for new laws or regulations\, and occasionally electoral campaigns. \n\nExamples of its work range from overturning anti-Boycott Divest and Sanction laws to changing the meeting times of the Memphis City Council.\n\n\nPoint of Production\nOrganizing to build the labor movement and to support cooperatives as well as other pro-worker businesses.\n\nHowever\, if there is another area of work you want us to establish a committee for\, please get in touch! Our Steering Committee is committed to helping facilitate the work you want to do toward a socialist future. For example\, we have a preponderance of educators in our chapter. Perhaps they want to form an Education Organizing Committee aimed at free\, quality\, and truthful education at all levels?
URL:https://home.memphisdsa.org/event/informal-meeting-deliberate-over-memphis-midsouth-dsas-future-efforts/
ATTACH;FMTTYPE=image/png:https://home.memphisdsa.org/wp-content/uploads/2021/07/cropped-DSALogo2-3-v3.png
END:VEVENT
BEGIN:VEVENT
DTSTART;TZID=America/Chicago:20240305T183000
DTEND;TZID=America/Chicago:20240305T200000
DTSTAMP:20260423T231449
CREATED:20240222T230331Z
LAST-MODIFIED:20240222T230331Z
UID:122-1709663400-1709668800@home.memphisdsa.org
SUMMARY:Investigation Ad Hoc Committee Meeting
DESCRIPTION:This meeting will hear reports from members who are investigating various areas of work\, aiming to prepare resolutions for the April General Meeting. If you would like to participate and help shape future work for our chapter\, please attend! \nContact memphisdsa@gmail.com if you would like to attend and need the meeting location.
URL:https://home.memphisdsa.org/event/investigation-ad-hoc-committee-meeting/
ATTACH;FMTTYPE=image/png:https://home.memphisdsa.org/wp-content/uploads/2021/07/cropped-DSALogo2-3-v3.png
END:VEVENT
BEGIN:VEVENT
DTSTART;TZID=America/Chicago:20240228T190000
DTEND;TZID=America/Chicago:20240228T210000
DTSTAMP:20260423T231449
CREATED:20240223T044524Z
LAST-MODIFIED:20240222T225436Z
UID:117-1709146800-1709154000@home.memphisdsa.org
SUMMARY:Starbucks Workers United Online Teach-In | Solidarity and Strategy
DESCRIPTION:The goal of the teach-in is to dive into the strategy of our Starbucks campaign\, from the shareholders meeting to the shop floor\, uncovering centers of power and how solidarity actions can help workers win. \nRegister here.
URL:https://home.memphisdsa.org/event/starbucks-workers-united-online-teach-in-solidarity-and-strategy/
ATTACH;FMTTYPE=image/jpeg:https://home.memphisdsa.org/wp-content/uploads/2024/02/Share_Graphic.jpeg
END:VEVENT
BEGIN:VEVENT
DTSTART;TZID=America/Chicago:20240213T120000
DTEND;TZID=America/Chicago:20240213T140000
DTSTAMP:20260423T231449
CREATED:20240131T013657Z
LAST-MODIFIED:20240131T044452Z
UID:92-1707825600-1707832800@home.memphisdsa.org
SUMMARY:General Meeting | 2-13-2024
DESCRIPTION:A general meeting for DSA members in the Memphis-Midsouth Chapter. \nAs a reminder\, the chapter will provide food and cover nonalcoholic beverages. \nPlease contact the Steering Committee in advance if you would like to offer an item or proposal to our agenda.
URL:https://home.memphisdsa.org/event/general-meeting-2-13-2024/
LOCATION:Contact memphisdsa@gmail.com if you want to attend and need this event’s address/location information.\, Memphis\, TN\, 38111\, United States
ATTACH;FMTTYPE=image/png:https://home.memphisdsa.org/wp-content/uploads/2021/07/DSALogo2-3-v3.png
ORGANIZER;CN="Memphis-Midsouth Steering Committee":MAILTO:memphisdsa@gmail.com
END:VEVENT
END:VCALENDAR