BEGIN:VCALENDAR
VERSION:2.0
PRODID:-//Memphis-Midsouth - ECPv6.15.17.1//NONSGML v1.0//EN
CALSCALE:GREGORIAN
METHOD:PUBLISH
X-WR-CALNAME:Memphis-Midsouth
X-ORIGINAL-URL:https://home.memphisdsa.org
X-WR-CALDESC:Events for Memphis-Midsouth
REFRESH-INTERVAL;VALUE=DURATION:PT1H
X-Robots-Tag:noindex
X-PUBLISHED-TTL:PT1H
BEGIN:VTIMEZONE
TZID:America/Chicago
BEGIN:DAYLIGHT
TZOFFSETFROM:-0600
TZOFFSETTO:-0500
TZNAME:CDT
DTSTART:20230312T080000
END:DAYLIGHT
BEGIN:STANDARD
TZOFFSETFROM:-0500
TZOFFSETTO:-0600
TZNAME:CST
DTSTART:20231105T070000
END:STANDARD
BEGIN:DAYLIGHT
TZOFFSETFROM:-0600
TZOFFSETTO:-0500
TZNAME:CDT
DTSTART:20240310T080000
END:DAYLIGHT
BEGIN:STANDARD
TZOFFSETFROM:-0500
TZOFFSETTO:-0600
TZNAME:CST
DTSTART:20241103T070000
END:STANDARD
BEGIN:DAYLIGHT
TZOFFSETFROM:-0600
TZOFFSETTO:-0500
TZNAME:CDT
DTSTART:20250309T080000
END:DAYLIGHT
BEGIN:STANDARD
TZOFFSETFROM:-0500
TZOFFSETTO:-0600
TZNAME:CST
DTSTART:20251102T070000
END:STANDARD
END:VTIMEZONE
BEGIN:VEVENT
DTSTART;TZID=America/Chicago:20241207T170000
DTEND;TZID=America/Chicago:20241207T190000
DTSTAMP:20260423T230818
CREATED:20241120T194122Z
LAST-MODIFIED:20241120T223055Z
UID:277-1733590800-1733598000@home.memphisdsa.org
SUMMARY:Memphis Rise Up: Coalition for Palestine Planning Meeting
DESCRIPTION:  \n\n\nSign up to attend this important first planning meeting of Memphis Rise Up\, instigated by Memphis Queers for Palestine. Please consider attending\, and help this important gathering to end the genocide and support a free Palestine be a success. \nTo sign up to attend\, please fill out this form. \n\n\n\n\nMemphis Rise Up’s Manifesto \nMemphis Rise Up is a community outreach organization founded by members of Memphis Queers for Palestine in response to the results of the 2024 U.S. presidential election. \nOur values and priorities include anti-zionism\, anti-fascism\, anti-war\, anti-racism\, support for LGBTQIA+ rights\, reproductive rights\, immigrant rights\, prison abolition\, and protecting the most vulnerable members of our community. \nA second Trump presidency will not stop us from doing everything in our power to create a world where human rights are protected and respected. \nJoin us in making our voices heard. Show the world we will not give up the fight. \nMemphis\, RISE UP.
URL:https://home.memphisdsa.org/event/memphis-queers-for-palestine-coalition-meeting/
LOCATION:First Congregational Church | 1000 Cooper Street\, 1000 Cooper St\, Memphis\, 38104\, United States
ATTACH;FMTTYPE=image/jpeg:https://home.memphisdsa.org/wp-content/uploads/2024/11/queers-for-palestine_graphic.png.jpeg
ORGANIZER;CN="Memphis-Midsouth Steering Committee":MAILTO:memphisdsa@gmail.com
END:VEVENT
END:VCALENDAR