BEGIN:VCALENDAR
VERSION:2.0
PRODID:-//Memphis-Midsouth - ECPv6.15.17.1//NONSGML v1.0//EN
CALSCALE:GREGORIAN
METHOD:PUBLISH
X-ORIGINAL-URL:https://home.memphisdsa.org
X-WR-CALDESC:Events for Memphis-Midsouth
REFRESH-INTERVAL;VALUE=DURATION:PT1H
X-Robots-Tag:noindex
X-PUBLISHED-TTL:PT1H
BEGIN:VTIMEZONE
TZID:America/Chicago
BEGIN:DAYLIGHT
TZOFFSETFROM:-0600
TZOFFSETTO:-0500
TZNAME:CDT
DTSTART:20230312T080000
END:DAYLIGHT
BEGIN:STANDARD
TZOFFSETFROM:-0500
TZOFFSETTO:-0600
TZNAME:CST
DTSTART:20231105T070000
END:STANDARD
BEGIN:DAYLIGHT
TZOFFSETFROM:-0600
TZOFFSETTO:-0500
TZNAME:CDT
DTSTART:20240310T080000
END:DAYLIGHT
BEGIN:STANDARD
TZOFFSETFROM:-0500
TZOFFSETTO:-0600
TZNAME:CST
DTSTART:20241103T070000
END:STANDARD
BEGIN:DAYLIGHT
TZOFFSETFROM:-0600
TZOFFSETTO:-0500
TZNAME:CDT
DTSTART:20250309T080000
END:DAYLIGHT
BEGIN:STANDARD
TZOFFSETFROM:-0500
TZOFFSETTO:-0600
TZNAME:CST
DTSTART:20251102T070000
END:STANDARD
END:VTIMEZONE
BEGIN:VEVENT
DTSTART;VALUE=DATE:20241105
DTEND;VALUE=DATE:20241106
DTSTAMP:20260424T003810
CREATED:20240924T203147Z
LAST-MODIFIED:20240924T203147Z
UID:249-1730764800-1730851199@home.memphisdsa.org
SUMMARY:Election Day Support for TN State House Candidate Noah Nordstrom
DESCRIPTION:Election Day Support\nWe’ll be coordinating volunteers to assist on Election Day (November 5). Noah’s campaign will host a Zoom workshop beforehand to guide volunteers on what to expect. Stay tuned for more information and RSVP below. \nLet us know if you can make it for November 5 here.
URL:https://home.memphisdsa.org/event/election-day-support-for-tn-state-house-candidate-noah-nordstrom/
LOCATION:Contact memphisdsa@gmail.com if you want to attend and need this event’s address/location information.\, Memphis\, TN\, 38111\, United States
ATTACH;FMTTYPE=image/png:https://home.memphisdsa.org/wp-content/uploads/2024/09/Screenshot_20240903_124335.png
END:VEVENT
END:VCALENDAR